View In:
ArcGIS JavaScript
ArcGIS Online Map Viewer
ArcGIS Earth
ArcMap
ArcGIS Pro
View Footprint In:
ArcGIS Online Map Viewer
Service Description: This digitally compiled map includes geology, geologic provinces, and oil and gas fields of the Former Soviet Union. The map is part of a worldwide series on CD-ROM by the World Energy Project released of the U.S. Geological Survey . The goal of the project is to assess the undiscovered, technically recoverable oil and gas resources of the world and report these results by the year 2000. For data management purposes the world was divided into eight energy regions corresponding approximately to the economic regions of the world as defined by the U.S. Department of State. The Former Soviet Union (Region 1) includes Armenia, Azerbaijan, Byelarus, Estonia, Georgia, Kazakhstan, Kyrgyzstan, Latvia, Lithuania, Moldova, Russia, Tajikistan, Turkmenistan, Ukraine, and Uzbekistan. Each region was then further divided into geologic provinces on the basis of natural geologic entities and may include a dominant structural element or a number of contiguous elements. Some provinces contain multiple genetically related basins. Geologic province boundaries for the Former Soviet Union were delineated using data from a number of geologic maps and other tectonic and geographic data (see References). Offshore province boundaries were defined by the 2000 meter bathymetric contour from the map edited by Gabrielyants, 1990 (see References). Each province was assigned a unique number; the first digit is the region number; province numbers follow. An attempt was made to number the provinces in geographical groups; onshore, offshore, and combined on and offshore. The numbering starts in the west. Oil and gas field data from Petroconsultants International Data Corporation worldwide oil and gas field database were allocated to these provinces. The geologic provinces are being further subdivided into petroleum systems and assessment units in order to appraise the undiscovered petroleum potential of selected provinces of the world. For a more in-depth discussion on the geologic provinces and their relative ranking in terms of total known petroleum volume, see Klett and others, 1997. Specific details of the data sources and map compilation are given in the metadata file on this CD-ROM and in the page 4. Smaller stratigraphic subdivisions of Phanerozoic rock were combined to simplify the map and to maintain consistency with other maps of the series. Precambrian rocks are undivided. Oil and gas field markers represent field centerpoints published with permission from Petroconsultants International Data Corp., 1996 database. This map was compiled using Environmental Systems Research Institute, Inc. (ESRI) ARC/INFO software. Political boundaries and cartographic representations on this map were taken, with permission, from ESRI's ArcWorld 1:3M digital coverage, have no political significance, and are displayed as general reference only. Portions of this database covering the coastline and country boundaries contain intellectual property of Environmental Systems Research Institute,Inc.(ESRI), and are used herein with permission. Copyright 1992 and 1996, Environmental Systems Research Institute,Inc. All rights reserved.
Map Name: Layers
Legend
All Layers and Tables
Dynamic Legend
Dynamic All Layers
Layers:
Description:
Service Item Id: b2099002606643dba1504a49feebda79
Copyright Text: Felix M. Persits, Gregory F. Ulmishek, Douglas W. Steinshouer
Spatial Reference:
102100
(3857)
Single Fused Map Cache: true
Tile Info:
- Height: 256
- Width: 256
- DPI: 96
-
Levels of Detail: 24
-
Level ID: 1
[ Start Tile, End Tile ]
- Resolution: 78271.5169639999
- Scale: 2.95828763795777E8
-
Level ID: 2
[ Start Tile, End Tile ]
- Resolution: 39135.7584820001
- Scale: 1.47914381897889E8
-
Level ID: 3
[ Start Tile, End Tile ]
- Resolution: 19567.8792409999
- Scale: 7.3957190948944E7
-
Level ID: 4
[ Start Tile, End Tile ]
- Resolution: 9783.93962049996
- Scale: 3.6978595474472E7
-
Level ID: 5
[ Start Tile, End Tile ]
- Resolution: 4891.96981024998
- Scale: 1.8489297737236E7
- Format: PNG
- Compression Quality: 0.0
- Origin: X: -2.0037508342787E7
Y: 2.0037508342787E7
- Spatial Reference: 102100
(3857)
Initial Extent:
XMin: -1936359.6408927366
YMin: 9166893.783843819
XMax: 2.0196080457320794E7
YMax: 1.8625766868256655E7
Spatial Reference: 102100
Full Extent:
XMin: -2.00375070672E7
YMin: 2956613.9059999995
XMax: 2.0037507067199998E7
YMax: 2.1593885105899997E7
Spatial Reference: 102100
Units: esriMeters
Supported Image Format Types: PNG32,PNG24,PNG,JPG,DIB,TIFF,EMF,PS,PDF,GIF,SVG,SVGZ,BMP
Document Info:
Title: Map Service Showing Geology, Oil and Gas Fields and Geological Provinces of the Former Soviet Union
Author: Felix M. Persits, Gregory F. Ulmishek, Douglas W. Steinshouer
Comments: This map service includes geology, center points of oil and gas fields, geologic provinces, and political boundaries in the Former Soviet Union. This compilation is part of an interim product of the U.S. Geological Survey's World Energy Project (WEP) and part of a series on CD-ROM. The data sets were designed originally in ESRI's ARC/INFO ver. 7.0.4 and 7.1.2 system. The data provides governments, the geological community, consultants, and the public with important information on the geological basis used to define provinces and oil and gas fields for USGS oil and gas assessments of the World. The map is a visual summary of the data gathered for region 1. The oil and gas field center points data set are part of a proprietary database and field names or any other data associated with the field centerpoints can not be attributed or displayed. Furthermore, portions of this database covering coastline and country boundaries contain intellectual property of Environmental Systems Research Institute, Inc. (ESRI), and are used with permission. End users are permitted to use these data sets for their own internal use, including derivative work, but are prohibited from using and redistributing these data individually or in a derivative work to third parties. ESRI and MapObjects are registerd trademarks in the United States and are either trademarks or registered trademarks in all other countries where they are used, and ArcExplorer is a trademark of Environmental Systems Research, Inc. Since the oil and gas field center points data set is part of a proprietary database, permission must be obtained from Petroconsultants International Data Corp. prior to further use of the data. In addition, portions of this database covering the coastline and country boundaries contain intellectual property of Environmental Systems Research Institute, Inc. (ESRI), and are used herein with permission. End users are permitted to use these data sets for their own internal use, including any derivative work, but are prohibited from using and redistributing these data sets individually or in a derivative work to third parties. ESRI and MapObjects are registerd trademarks in the United States and are either trademarks or registered trademarks in all other countries where they are used, and ArcExplorer is a trademark of Environmental Systems Research, Inc.
Subject: Geology, Oil and Gas Fields, Geologic Provinces
Category:
Keywords: Geology,USGS,U.S. Geological Survey,Earth Science
AntialiasingMode: None
TextAntialiasingMode: Force
Supports Dynamic Layers: true
MaxRecordCount: 1000
MaxImageHeight: 4096
MaxImageWidth: 4096
Supported Query Formats: JSON, geoJSON
Supports Query Data Elements:
Min Scale: 5.91657527591555E8
Max Scale: 288895.277144
Min LOD: 0
Max LOD: 11
Supports Datum Transformation: true
Child Resources:
Info
Dynamic Layer
Supported Operations:
Export Map
Identify
QueryLegends
QueryDomains
Find
Return Updates