{
 "currentVersion": 11.2,
 "cimVersion": "3.2.0",
 "serviceDescription": "This digitally compiled map includes geology, geologic provinces, and oil and gas fields of the Former Soviet Union. The map is part of a worldwide series on CD-ROM by the World Energy Project released of the U.S. Geological Survey . The goal of the project is to assess the undiscovered, technically recoverable oil and gas resources of the world and report these results by the year 2000. For data management purposes the world was divided into eight energy regions corresponding approximately to the economic regions of the world as defined by the U.S. Department of State. The Former Soviet Union (Region 1) includes Armenia, Azerbaijan, Byelarus, Estonia, Georgia, Kazakhstan, Kyrgyzstan, Latvia, Lithuania, Moldova, Russia, Tajikistan, Turkmenistan, Ukraine, and Uzbekistan. Each region was then further divided into geologic provinces on the basis of natural geologic entities and may include a dominant structural element or a number of contiguous elements. Some provinces contain multiple genetically related basins. Geologic province boundaries for the Former Soviet Union were delineated using data from a number of geologic maps and other tectonic and geographic data (see References). Offshore province boundaries were defined by the 2000 meter bathymetric contour from the map edited by Gabrielyants, 1990 (see References). Each province was assigned a unique number; the first digit is the region number; province numbers follow. An attempt was made to number the provinces in geographical groups; onshore, offshore, and combined on and offshore. The numbering starts in the west. Oil and gas field data from Petroconsultants International Data Corporation worldwide oil and gas field database were allocated to these provinces. The geologic provinces are being further subdivided into petroleum systems and assessment units in order to appraise the undiscovered petroleum potential of selected provinces of the world. For a more in-depth discussion on the geologic provinces and their relative ranking in terms of total known petroleum volume, see Klett and others, 1997. Specific details of the data sources and map compilation are given in the metadata file on this CD-ROM and in the page 4. Smaller stratigraphic subdivisions of Phanerozoic rock were combined to simplify the map and to maintain consistency with other maps of the series. Precambrian rocks are undivided. Oil and gas field markers represent field centerpoints published with permission from Petroconsultants International Data Corp., 1996 database. This map was compiled using Environmental Systems Research Institute, Inc. (ESRI) ARC/INFO software. Political boundaries and cartographic representations on this map were taken, with permission, from ESRI's ArcWorld 1:3M digital coverage, have no political significance, and are displayed as general reference only. Portions of this database covering the coastline and country boundaries contain intellectual property of Environmental Systems Research Institute,Inc.(ESRI), and are used herein with permission. Copyright 1992 and 1996, Environmental Systems Research Institute,Inc. All rights reserved.",
 "mapName": "Layers",
 "description": "",
 "copyrightText": "Felix M. Persits, Gregory F. Ulmishek, Douglas W. Steinshouer",
 "supportsDynamicLayers": true,
 "layers": [
  {
   "id": 0,
   "name": "Oil and Gas Field",
   "parentLayerId": -1,
   "defaultVisibility": true,
   "subLayerIds": null,
   "minScale": 0,
   "maxScale": 0,
   "type": "Feature Layer",
   "geometryType": "esriGeometryPoint",
   "supportsDynamicLegends": true
  },
  {
   "id": 1,
   "name": "Geologic Province",
   "parentLayerId": -1,
   "defaultVisibility": true,
   "subLayerIds": null,
   "minScale": 0,
   "maxScale": 0,
   "type": "Feature Layer",
   "geometryType": "esriGeometryPolygon",
   "supportsDynamicLegends": true
  },
  {
   "id": 2,
   "name": "Geology",
   "parentLayerId": -1,
   "defaultVisibility": true,
   "subLayerIds": null,
   "minScale": 0,
   "maxScale": 0,
   "type": "Feature Layer",
   "geometryType": "esriGeometryPolygon",
   "supportsDynamicLegends": true
  }
 ],
 "tables": [],
 "spatialReference": {
  "wkid": 102100,
  "latestWkid": 3857,
  "xyTolerance": 0.001,
  "zTolerance": 0.001,
  "mTolerance": 0.001,
  "falseX": -2.2041257773920003E7,
  "falseY": -30241100,
  "xyUnits": 1.441480358985159E8,
  "falseZ": -100000,
  "zUnits": 10000,
  "falseM": -100000,
  "mUnits": 10000
 },
 "singleFusedMapCache": true,
 "tileInfo": {
  "rows": 256,
  "cols": 256,
  "dpi": 96,
  "format": "PNG",
  "compressionQuality": 0,
  "origin": {
   "x": -2.0037508342787E7,
   "y": 2.0037508342787E7
  },
  "spatialReference": {
   "wkid": 102100,
   "latestWkid": 3857,
   "xyTolerance": 0.001,
   "zTolerance": 0.001,
   "mTolerance": 0.001,
   "falseX": -20037700,
   "falseY": -30241100,
   "xyUnits": 1.4892314192838538E8,
   "falseZ": -100000,
   "zUnits": 10000,
   "falseM": -100000,
   "mUnits": 10000
  },
  "lods": [
   {
    "level": 0,
    "resolution": 156543.033928,
    "scale": 5.91657527591555E8
   },
   {
    "level": 1,
    "resolution": 78271.5169639999,
    "scale": 2.95828763795777E8
   },
   {
    "level": 2,
    "resolution": 39135.7584820001,
    "scale": 1.47914381897889E8
   },
   {
    "level": 3,
    "resolution": 19567.8792409999,
    "scale": 7.3957190948944E7
   },
   {
    "level": 4,
    "resolution": 9783.93962049996,
    "scale": 3.6978595474472E7
   },
   {
    "level": 5,
    "resolution": 4891.96981024998,
    "scale": 1.8489297737236E7
   },
   {
    "level": 6,
    "resolution": 2445.98490512499,
    "scale": 9244648.868618
   },
   {
    "level": 7,
    "resolution": 1222.99245256249,
    "scale": 4622324.434309
   },
   {
    "level": 8,
    "resolution": 611.49622628138,
    "scale": 2311162.217155
   },
   {
    "level": 9,
    "resolution": 305.748113140558,
    "scale": 1155581.108577
   },
   {
    "level": 10,
    "resolution": 152.874056570411,
    "scale": 577790.554289
   },
   {
    "level": 11,
    "resolution": 76.4370282850732,
    "scale": 288895.277144
   },
   {
    "level": 12,
    "resolution": 38.2185141425366,
    "scale": 144447.638572
   },
   {
    "level": 13,
    "resolution": 19.1092570712683,
    "scale": 72223.819286
   },
   {
    "level": 14,
    "resolution": 9.55462853563415,
    "scale": 36111.909643
   },
   {
    "level": 15,
    "resolution": 4.77731426794937,
    "scale": 18055.954822
   },
   {
    "level": 16,
    "resolution": 2.38865713397468,
    "scale": 9027.977411
   },
   {
    "level": 17,
    "resolution": 1.19432856685505,
    "scale": 4513.988705
   },
   {
    "level": 18,
    "resolution": 0.597164283559817,
    "scale": 2256.994353
   },
   {
    "level": 19,
    "resolution": 0.298582141647617,
    "scale": 1128.497176
   },
   {
    "level": 20,
    "resolution": 0.14929107082380833,
    "scale": 564.248588
   },
   {
    "level": 21,
    "resolution": 0.07464553541190416,
    "scale": 282.124294
   },
   {
    "level": 22,
    "resolution": 0.03732276770595208,
    "scale": 141.062147
   },
   {
    "level": 23,
    "resolution": 0.01866138385297604,
    "scale": 70.5310735
   }
  ]
 },
 "storageInfo": {
  "storageFormat": "esriMapCacheStorageModeCompactV2",
  "packetSize": 128
 },
 "initialExtent": {
  "xmin": -1936359.6408927366,
  "ymin": 9166893.783843819,
  "xmax": 2.0196080457320794E7,
  "ymax": 1.8625766868256655E7,
  "spatialReference": {
   "cs": "pcs",
   "wkid": 102100
  }
 },
 "fullExtent": {
  "xmin": -2.00375070672E7,
  "ymin": 2956613.9059999995,
  "xmax": 2.0037507067199998E7,
  "ymax": 2.1593885105899997E7,
  "spatialReference": {
   "cs": "pcs",
   "wkid": 102100
  }
 },
 "datesInUnknownTimezone": false,
 "minScale": 5.91657527591555E8,
 "maxScale": 288895.277144,
 "minLOD": 0,
 "maxLOD": 11,
 "units": "esriMeters",
 "supportedImageFormatTypes": "PNG32,PNG24,PNG,JPG,DIB,TIFF,EMF,PS,PDF,GIF,SVG,SVGZ,BMP",
 "documentInfo": {
  "Title": "Map Service Showing Geology, Oil and Gas Fields and Geological Provinces of the Former Soviet Union",
  "Author": "Felix M. Persits, Gregory F. Ulmishek, Douglas W. Steinshouer",
  "Comments": "This map service includes geology, center points of oil and gas fields, geologic provinces, and political boundaries in the Former Soviet Union. This compilation is part of an interim product of the U.S. Geological Survey's World Energy Project (WEP) and part of a series on CD-ROM. The data sets were designed originally in ESRI's ARC/INFO ver. 7.0.4 and 7.1.2 system. The data provides governments, the geological community, consultants, and the public with important information on the geological basis used to define provinces and oil and gas fields for USGS oil and gas assessments of the World. The map is a visual summary of the data gathered for region 1. The oil and gas field center points data set are part of a proprietary database and field names or any other data associated with the field centerpoints can not be attributed or displayed. Furthermore, portions of this database covering coastline and country boundaries contain intellectual property of Environmental Systems Research Institute, Inc. (ESRI), and are used with permission. End users are permitted to use these data sets for their own internal use, including derivative work, but are prohibited from using and redistributing these data individually or in a derivative work to third parties. ESRI and MapObjects are registerd trademarks in the United States and are either trademarks or registered trademarks in all other countries where they are used, and ArcExplorer is a trademark of Environmental Systems Research, Inc. Since the oil and gas field center points data set is part of a proprietary database, permission must be obtained from Petroconsultants International Data Corp. prior to further use of the data. In addition, portions of this database covering the coastline and country boundaries contain intellectual property of Environmental Systems Research Institute, Inc. (ESRI), and are used herein with permission. End users are permitted to use these data sets for their own internal use, including any derivative work, but are prohibited from using and redistributing these data sets individually or in a derivative work to third parties. ESRI and MapObjects are registerd trademarks in the United States and are either trademarks or registered trademarks in all other countries where they are used, and ArcExplorer is a trademark of Environmental Systems Research, Inc. ",
  "Subject": "Geology, Oil and Gas Fields, Geologic Provinces",
  "Category": "",
  "Version": "10.1",
  "AntialiasingMode": "None",
  "TextAntialiasingMode": "Force",
  "Keywords": "Geology,USGS,U.S. Geological Survey,Earth Science"
 },
 "supportsQueryDomains": true,
 "capabilities": "Map,Query,Data",
 "supportedQueryFormats": "JSON, geoJSON, PBF",
 "exportTilesAllowed": false,
 "referenceScale": 0.0,
 "supportsDatumTransformation": true,
 "archivingInfo": {
  "supportsHistoricMoment": false
 },
 "supportsClipping": true,
 "supportsSpatialFilter": true,
 "supportsTimeRelation": true,
 "supportsQueryDataElements": true,
 "mapUnits": {
  "uwkid": 9001
 },
 "maxRecordCount": 1000,
 "maxImageHeight": 4096,
 "maxImageWidth": 4096,
 "supportedExtensions": "WMSServer",
 "serviceItemId": "b2099002606643dba1504a49feebda79"
}
