View In:
ArcGIS JavaScript
ArcGIS Online Map Viewer
ArcGIS Earth
ArcGIS Pro
Service Description: This map service includes geology, major faults, geologic provinces, and political boundaries in the Asia Pacific Region. This compilation is part of an interim product of the U.S. Geological Survey's World Energy Project (WEP) and part of a series on CD-ROM.Although a geologic map displays the geographic distribution of the different geologic units and rock types for numerous purposes, this data set was compiled primarily for the World Energy Project as part of a required strategic base for assessing the petroleum potential of this region. For this purpose, the map provides an outline of the general geographic distribution of both known or hypothetical petroleum-potential formations and units, that is, sedimentary rocks and basins, and areas containing igneous and metamorphic rocks which have virtually little or no potential. The map was also compiled, in part, to provide a basis for outlining the geographic and petroleum provinces. This basic geologic data set, combined with numerous others, such as tectonic and burial histories, distribution of known oil and gas fields, distribution and quality of reservoir rocks, organic geochemistry, etc., will ultimately difine the basis for the assessment of undiscovered oil and gas in the Asia Pacific Region.
Map Name: Layers
Legend
All Layers and Tables
Dynamic Legend
Dynamic All Layers
Layers:
Description:
Service Item Id: 327244ab254744cb8e678ac96eec660e
Copyright Text: U.S. Geological Survey, Central Energy Resources Team
Spatial Reference:
102100
(3857)
LatestVCSWkid(0)
Single Fused Map Cache: true
Tile Info:
- Height: 256
- Width: 256
- DPI: 96
-
Levels of Detail: 24
-
Level ID: 1
[ Start Tile, End Tile ]
- Resolution: 78271.5169639999
- Scale: 2.95828763795777E8
-
Level ID: 2
[ Start Tile, End Tile ]
- Resolution: 39135.7584820001
- Scale: 1.47914381897889E8
-
Level ID: 3
[ Start Tile, End Tile ]
- Resolution: 19567.8792409999
- Scale: 7.3957190948944E7
-
Level ID: 4
[ Start Tile, End Tile ]
- Resolution: 9783.93962049996
- Scale: 3.6978595474472E7
-
Level ID: 5
[ Start Tile, End Tile ]
- Resolution: 4891.96981024998
- Scale: 1.8489297737236E7
- Format: PNG
- Compression Quality: 0.0
- Origin: X: -2.0037508342787E7
Y: 2.0037508342787E7
- Spatial Reference: 102100
(3857)
LatestVCSWkid(0)
Storage Info:
- Storage Format: esriMapCacheStorageModeCompactV2
- Packet Size: 128
Initial Extent:
XMin: -3977295.7605823632
YMin: -5293495.432027808
XMax: 3.1434608396559365E7
YMax: 9840701.503032766
Spatial Reference: 102100
(0)
LatestVCSWkid(0)
Full Extent:
XMin: -2.00375070672E7
YMin: -7478553.977299999
XMax: 2.0037507067199998E7
YMax: 7198087.474100001
Spatial Reference: 102100
(0)
LatestVCSWkid(0)
Units: esriMeters
Supported Image Format Types: PNG32,PNG24,PNG,JPG,DIB,TIFF,EMF,PS,PDF,GIF,SVG,SVGZ,BMP
Document Info:
Title: Maps Showing Geology, Oil and Gas Fields, and Geologic Provinces of the Asia Pacific Region
Author: Douglas W. Steinshouer, Jin Qiang, Peter J. McCabe, Robert T. Ryder, Tim Klett
Comments: This map service includes geology, major faults, geologic provinces, and political boundaries in the Asia Pacific Region. This compilation is part of an interim product of the U.S. Geological Survey's World Energy Project (WEP) and part of a series on CD-ROM.Although a geologic map displays the geographic distribution of the different geologic units and rock types for numerous purposes, this data set was compiled primarily for the World Energy Project as part of a required strategic base for assessing the petroleum potential of this region. For this purpose, the map provides an outline of the general geographic distribution of both known or hypothetical petroleum-potential formations and units, that is, sedimentary rocks and basins, and areas containing igneous and metamorphic rocks which have virtually little or no potential. The map was also compiled, in part, to provide a basis for outlining the geographic and petroleum provinces. This basic geologic data set, combined with numerous others, such as tectonic and burial histories, distribution of known oil and gas fields, distribution and quality of reservoir rocks, organic geochemistry, etc., will ultimately difine the basis for the assessment of undiscovered oil and gas in the Asia Pacific Region.
Subject: Geology, Oil and Gas Fields, Geologic Provinces
Category:
Keywords: Oil and Gas,Geology,Geologic Maps,USGS,U.S. Geological Survey,Earth Science,Asia Pacific
AntialiasingMode: None
TextAntialiasingMode: Force
Supports Dynamic Layers: true
MaxRecordCount: 1000
MaxSelectionCount: 2000
MaxImageHeight: 4096
MaxImageWidth: 4096
Supported Query Formats: JSON, geoJSON, PBF
Supports Query Data Elements: true
Min Scale: 5.91657527591555E8
Max Scale: 577790.554289
Min LOD: 0
Max LOD: 10
Supports Datum Transformation: true
Child Resources:
Info
Dynamic Layer
Supported Operations:
Export Map
Identify
QueryLegends
QueryDomains
Find
Return Updates