{
 "currentVersion": 11.4,
 "cimVersion": "3.4.0",
 "serviceDescription": "This map service includes geology, major faults, geologic provinces, and political boundaries in the Asia Pacific Region. This compilation is part of an interim product of the U.S. Geological Survey's World Energy Project (WEP) and part of a series on CD-ROM.Although a geologic map displays the geographic distribution of the different geologic units and rock types for numerous purposes, this data set was compiled primarily for the World Energy Project as part of a required strategic base for assessing the petroleum potential of this region. For this purpose, the map provides an outline of the general geographic distribution of both known or hypothetical petroleum-potential formations and units, that is, sedimentary rocks and basins, and areas containing igneous and metamorphic rocks which have virtually little or no potential. The map was also compiled, in part, to provide a basis for outlining the geographic and petroleum provinces. This basic geologic data set, combined with numerous others, such as tectonic and burial histories, distribution of known oil and gas fields, distribution and quality of reservoir rocks, organic geochemistry, etc., will ultimately difine the basis for the assessment of undiscovered oil and gas in the Asia Pacific Region.",
 "mapName": "Layers",
 "description": "",
 "copyrightText": "U.S. Geological Survey, Central Energy Resources Team",
 "supportsDynamicLayers": true,
 "layers": [
  {
   "id": 0,
   "name": "Oil and Gas Field",
   "parentLayerId": -1,
   "defaultVisibility": true,
   "subLayerIds": null,
   "minScale": 0,
   "maxScale": 0,
   "type": "Feature Layer",
   "geometryType": "esriGeometryPoint",
   "supportsDynamicLegends": true
  },
  {
   "id": 1,
   "name": "Geologic Province",
   "parentLayerId": -1,
   "defaultVisibility": true,
   "subLayerIds": null,
   "minScale": 0,
   "maxScale": 0,
   "type": "Feature Layer",
   "geometryType": "esriGeometryPolygon",
   "supportsDynamicLegends": true
  },
  {
   "id": 2,
   "name": "Rock Type",
   "parentLayerId": -1,
   "defaultVisibility": true,
   "subLayerIds": null,
   "minScale": 0,
   "maxScale": 0,
   "type": "Feature Layer",
   "geometryType": "esriGeometryPolygon",
   "supportsDynamicLegends": true
  },
  {
   "id": 3,
   "name": "Geology",
   "parentLayerId": -1,
   "defaultVisibility": true,
   "subLayerIds": null,
   "minScale": 0,
   "maxScale": 0,
   "type": "Feature Layer",
   "geometryType": "esriGeometryPolygon",
   "supportsDynamicLegends": true
  }
 ],
 "tables": [],
 "spatialReference": {
  "wkid": 102100,
  "latestWkid": 3857,
  "xyTolerance": 0.001,
  "zTolerance": 0.001,
  "mTolerance": 0.001,
  "falseX": -2.2041257773920003E7,
  "falseY": -30241100,
  "xyUnits": 1.441480358985159E8,
  "falseZ": -100000,
  "zUnits": 10000,
  "falseM": -100000,
  "mUnits": 10000
 },
 "singleFusedMapCache": true,
 "tileInfo": {
  "rows": 256,
  "cols": 256,
  "dpi": 96,
  "format": "PNG",
  "compressionQuality": 0,
  "origin": {
   "x": -2.0037508342787E7,
   "y": 2.0037508342787E7
  },
  "spatialReference": {
   "wkid": 102100,
   "latestWkid": 3857,
   "xyTolerance": 0.001,
   "zTolerance": 0.001,
   "mTolerance": 0.001,
   "falseX": -20037700,
   "falseY": -30241100,
   "xyUnits": 1.4892314192838538E8,
   "falseZ": -100000,
   "zUnits": 10000,
   "falseM": -100000,
   "mUnits": 10000
  },
  "lods": [
   {
    "level": 0,
    "resolution": 156543.033928,
    "scale": 5.91657527591555E8
   },
   {
    "level": 1,
    "resolution": 78271.5169639999,
    "scale": 2.95828763795777E8
   },
   {
    "level": 2,
    "resolution": 39135.7584820001,
    "scale": 1.47914381897889E8
   },
   {
    "level": 3,
    "resolution": 19567.8792409999,
    "scale": 7.3957190948944E7
   },
   {
    "level": 4,
    "resolution": 9783.93962049996,
    "scale": 3.6978595474472E7
   },
   {
    "level": 5,
    "resolution": 4891.96981024998,
    "scale": 1.8489297737236E7
   },
   {
    "level": 6,
    "resolution": 2445.98490512499,
    "scale": 9244648.868618
   },
   {
    "level": 7,
    "resolution": 1222.99245256249,
    "scale": 4622324.434309
   },
   {
    "level": 8,
    "resolution": 611.49622628138,
    "scale": 2311162.217155
   },
   {
    "level": 9,
    "resolution": 305.748113140558,
    "scale": 1155581.108577
   },
   {
    "level": 10,
    "resolution": 152.874056570411,
    "scale": 577790.554289
   },
   {
    "level": 11,
    "resolution": 76.4370282850732,
    "scale": 288895.277144
   },
   {
    "level": 12,
    "resolution": 38.2185141425366,
    "scale": 144447.638572
   },
   {
    "level": 13,
    "resolution": 19.1092570712683,
    "scale": 72223.819286
   },
   {
    "level": 14,
    "resolution": 9.55462853563415,
    "scale": 36111.909643
   },
   {
    "level": 15,
    "resolution": 4.77731426794937,
    "scale": 18055.954822
   },
   {
    "level": 16,
    "resolution": 2.38865713397468,
    "scale": 9027.977411
   },
   {
    "level": 17,
    "resolution": 1.19432856685505,
    "scale": 4513.988705
   },
   {
    "level": 18,
    "resolution": 0.597164283559817,
    "scale": 2256.994353
   },
   {
    "level": 19,
    "resolution": 0.298582141647617,
    "scale": 1128.497176
   },
   {
    "level": 20,
    "resolution": 0.14929107082380833,
    "scale": 564.248588
   },
   {
    "level": 21,
    "resolution": 0.07464553541190416,
    "scale": 282.124294
   },
   {
    "level": 22,
    "resolution": 0.03732276770595208,
    "scale": 141.062147
   },
   {
    "level": 23,
    "resolution": 0.01866138385297604,
    "scale": 70.5310735
   }
  ]
 },
 "storageInfo": {
  "storageFormat": "esriMapCacheStorageModeCompactV2",
  "packetSize": 128
 },
 "initialExtent": {
  "xmin": -3977295.7605823632,
  "ymin": -5293495.432027808,
  "xmax": 3.1434608396559365E7,
  "ymax": 9840701.503032766,
  "spatialReference": {
   "cs": "pcs",
   "wkid": 102100
  }
 },
 "fullExtent": {
  "xmin": -2.00375070672E7,
  "ymin": -7478553.977299999,
  "xmax": 2.0037507067199998E7,
  "ymax": 7198087.474100001,
  "spatialReference": {
   "cs": "pcs",
   "wkid": 102100
  }
 },
 "datesInUnknownTimezone": false,
 "minScale": 5.91657527591555E8,
 "maxScale": 577790.554289,
 "minLOD": 0,
 "maxLOD": 10,
 "units": "esriMeters",
 "supportedImageFormatTypes": "PNG32,PNG24,PNG,JPG,DIB,TIFF,EMF,PS,PDF,GIF,SVG,SVGZ,BMP",
 "documentInfo": {
  "Title": "Maps Showing Geology, Oil and Gas Fields, and Geologic Provinces of the Asia Pacific Region ",
  "Author": "Douglas W. Steinshouer, Jin Qiang, Peter J. McCabe, Robert T. Ryder, Tim Klett ",
  "Comments": "This map service includes geology, major faults, geologic provinces, and political boundaries in the Asia Pacific Region. This compilation is part of an interim product of the U.S. Geological Survey's World Energy Project (WEP) and part of a series on CD-ROM.Although a geologic map displays the geographic distribution of the different geologic units and rock types for numerous purposes, this data set was compiled primarily for the World Energy Project as part of a required strategic base for assessing the petroleum potential of this region. For this purpose, the map provides an outline of the general geographic distribution of both known or hypothetical petroleum-potential formations and units, that is, sedimentary rocks and basins, and areas containing igneous and metamorphic rocks which have virtually little or no potential. The map was also compiled, in part, to provide a basis for outlining the geographic and petroleum provinces. This basic geologic data set, combined with numerous others, such as tectonic and burial histories, distribution of known oil and gas fields, distribution and quality of reservoir rocks, organic geochemistry, etc., will ultimately difine the basis for the assessment of undiscovered oil and gas in the Asia Pacific Region.",
  "Subject": "Geology, Oil and Gas Fields, Geologic Provinces",
  "Category": "",
  "Version": "10.1",
  "AntialiasingMode": "None",
  "TextAntialiasingMode": "Force",
  "Keywords": "Oil and Gas,Geology,Geologic Maps,USGS,U.S. Geological Survey,Earth Science,Asia Pacific"
 },
 "supportsQueryDomains": true,
 "capabilities": "Map,Query,Data",
 "supportedQueryFormats": "JSON, geoJSON, PBF",
 "exportTilesAllowed": false,
 "referenceScale": 0.0,
 "supportsDatumTransformation": true,
 "archivingInfo": {
  "supportsHistoricMoment": false
 },
 "supportsClipping": true,
 "supportsSpatialFilter": true,
 "supportsTimeRelation": true,
 "supportsQueryDataElements": true,
 "mapUnits": {
  "uwkid": 9001
 },
 "maxSelectionCount": 2000,
 "maxRecordCount": 1000,
 "maxImageHeight": 4096,
 "maxImageWidth": 4096,
 "supportedExtensions": "WMSServer",
 "serviceItemId": "327244ab254744cb8e678ac96eec660e"
}
