View In:
ArcGIS JavaScript
ArcGIS Online Map Viewer
ArcGIS Earth
ArcGIS Pro
Service Description: This digitally compiled map includes petroleum geology, geologic provinces, and oil and gas fields of South Asia. The map is part of a worldwide series released by the U. S. Geological Survey World Energy Project. The goal of the project is to assess the undiscovered, technically recoverable oil and gas resources of the world and report these results by the year 2000. For data management purposes the world was divided into eight energy regions corresponding approximately to the economic regions of the world as defined by the U.S. Department of State. South Asia (Region 8) is represented on this CD-ROM (see Reference Map), and includes Afghanistan, Bangladesh, Bhutan, India, Myanmar, Nepal, Pakistan, and Sri Lanka. Each region was then further divided into geologic provinces on the basis of natural geologic entities and may include a dominant structural element or a number of contiguous elements. Some provinces contain multiple genetically related basins. Geologic province boundaries for South Asia were delineated using data from UNESCO geologic maps, and other tectonic and geographic data (see Selected References). Offshore province boundaries were defined by the 2000 meter bathymetric contour from the UNESCO geologic maps (see References). Each province was assigned a unique number; the first digit is the region number. An attempt was made to number the provinces in geographical groups; onshore, offshore, and combined on and offshore. In South Asia, the numbering starts in the west. Oil and gas field data from Petroconsultants International Corporation worldwide oil and gas field database were allocated to these provinces. The geologic provinces are being further subdivided into petroleum systems and assessment units in order to appraise the undiscovered petroleum potential of selected provinces of the world. For a more in-depth discussion of the geologic provinces and their relative ranking in terms of total known petroleum volume, see Klett and others, 1997. This map for South Asia was compiled and synthesized primarily from the UNESCO, 1976 and 1990, geologic maps of South and East Asia, 1:10,000,000 and 1:5,000,000 scales respectively. Specific details of the data sources are given in the metadata file on this CD-ROM. Geologic units were combined to simplify the map and to maintain consistency with other maps of the series. Precambrian rocks are undivided. Paleozoic, Mesozoic, and Cenozoic rocks have been combined in many cases (see Explanation). Oil and gas field markers represent field centerpoints published with permission from Petroconsultants International Data Corp., 1996 database. This map was compiled using Environmental Systems Research Institute, Inc. (ESRI) ARC/INFO and ArcPlot softwares. Political boundaries and cartographic representations on this map were taken, with permission, from ESRI's ArcWorld 1:3 million digital coverage, have no political significance, and are displayed as general reference only.
Map Name: Layers
Legend
All Layers and Tables
Dynamic Legend
Dynamic All Layers
Layers:
Description:
Service Item Id: 050f30b63a934a349436dc2bf570e21f
Copyright Text: Wandrey, C.J., and Law, B.E.
Spatial Reference:
102100
(3857)
LatestVCSWkid(0)
Single Fused Map Cache: true
Tile Info:
- Height: 256
- Width: 256
- DPI: 96
-
Levels of Detail: 24
-
Level ID: 1
[ Start Tile, End Tile ]
- Resolution: 78271.5169639999
- Scale: 2.95828763795777E8
-
Level ID: 2
[ Start Tile, End Tile ]
- Resolution: 39135.7584820001
- Scale: 1.47914381897889E8
-
Level ID: 3
[ Start Tile, End Tile ]
- Resolution: 19567.8792409999
- Scale: 7.3957190948944E7
-
Level ID: 4
[ Start Tile, End Tile ]
- Resolution: 9783.93962049996
- Scale: 3.6978595474472E7
-
Level ID: 5
[ Start Tile, End Tile ]
- Resolution: 4891.96981024998
- Scale: 1.8489297737236E7
- Format: PNG
- Compression Quality: 0.0
- Origin: X: -2.0037508342787E7
Y: 2.0037508342787E7
- Spatial Reference: 102100
(3857)
LatestVCSWkid(0)
Storage Info:
- Storage Format: esriMapCacheStorageModeCompactV2
- Packet Size: 128
Initial Extent:
XMin: 5785795.429961241
YMin: 2802096.1021018894
XMax: 1.0212283449603949E7
YMax: 4693870.718984458
Spatial Reference: 102100
(0)
LatestVCSWkid(0)
Full Extent:
XMin: 6344216.796700001
YMin: -91915.04520000145
XMax: 1.1633748762400001E7
YMax: 4648039.739399999
Spatial Reference: 102100
(0)
LatestVCSWkid(0)
Units: esriMeters
Supported Image Format Types: PNG32,PNG24,PNG,JPG,DIB,TIFF,EMF,PS,PDF,GIF,SVG,SVGZ,BMP
Document Info:
Title: Map Service Showing Geology and Geologic Provinces of South Asia
Author: Wandrey, C.J., and Law, B.E.
Comments: The geology data set for this map includes arcs, polygons, and labels that outline and describe the general geologic age and rock type for South Asia. The geologic provinces data set includes arcs, polygons, and labels of geologic and petroleum provinces interpreted and designated by Ben E. Law and Craig J. Wandrey from a number of literature and map resources to assist in the assessment of oil and gas resources for the U.S.G.S. World Energy Project. The oil and gas field centerpoints data set is a point coverage that marks the approximate centerpoints of oil and gas fields in South Asia. Political boundaries are provided to show the general location of country and/or other reference 'political' boundaries.The data provide government, geological community, consultants, and the general public with the important geological base that is used to define geologic provinces and oil and gas field assignments for U.S.G.S. Oil and Gas Assessment of the World.Portions of the database covering coastline and country boundaries contain intellectual property of Environmental Systems Research Institute, Inc. (ESRI), and are used with permission. End users are permitted to use these ESRI data sets for their own internal use, including derivative work, but are prohibited from using and redistributing these data individually or in a derivative work to third parties. Please refer to the "Attachment B" (attachb) and the "PRRMSN" folder on the CD-ROM for further information on ESRI's license agreement.Portions of this database covering the coastline and country boundaries contain intellectual property of Environmental Systems Research Institute, Inc. (ESRI), and are used herein with permission. End users are permitted to use these ESRI data sets for their own internal use, including any derivative work, but are prohibited from using and redistributing these data sets individually or in a derivative work to third parties. Please refer the "ATTACHMENT B" file (attachb) on the CD-ROM for more comprehensive information concerning ESRI's license agreement.
Subject: Geology, Geologic Provinces
Category:
Keywords: Geology,Geologic Maps,USGS,U.S. Geological Survey,Earth Science,South Asia
AntialiasingMode: None
TextAntialiasingMode: Force
Supports Dynamic Layers: true
Resampling: false
MaxRecordCount: 1000
MaxSelectionCount: 2000
MaxImageHeight: 4096
MaxImageWidth: 4096
Supported Query Formats: JSON, geoJSON, PBF
Supports Query Data Elements: true
Min Scale: 5.91657527591555E8
Max Scale: 288895.277144
Min LOD: 0
Max LOD: 11
Supports Datum Transformation: true
Child Resources:
Info
Dynamic Layer
Supported Operations:
Export Map
Identify
QueryLegends
QueryDomains
Find
Return Updates