View In:
ArcGIS JavaScript
ArcGIS Online Map Viewer
ArcGIS Earth
ArcGIS Pro
Service Description: This digitally compiled map includes geology, geologic provinces, and oil and gas fields of South America. The map is part of a worldwide series on CD-ROM by World Energy Project released of the U.S. Geological Survey . The goal of the project is to assess the undiscovered, technically recoverable oil and gas resources of the world and report these results by the year 2000. For data management purposes the world is divided into eight energy regions corresponding approximately to the economic regions of the world as defined by the U.S. Department of State. South America (Region 6) includes Argentina, Bolivia, Brazil, Chile, Columbia, Ecuador, Falkland Islands, French Guiana, Guyuna, Netherlands, Netherlands Antilles, Paraguay, Peru, Suriname, Trinidad and Tobago, Uruguay, and Venezuela. Each region is then further divided into geologic provinces on the basis of natural geologic entities and may include a dominant structural element or a number of contiguous elements. Some provinces contain multiple genetically related basins. Geologic province boundaries for the South America are delineated using data from a number of geologic maps, and other tectonic and geographic data (see References). Offshore province boundaries are defined by the 4000 meter bathymetric contour. Each province is assigned a unique number; the first digit is the region number. It is attempted to number the provinces in geographical groups; onshore, offshore, and combined on and offshore. The list of the provinces sorted by Code is shown in Adobe Acrobat samgeo.pdf file (see section V below). Oil and gas field data from Petroconsultants International Data Corporation worldwide oil and gas field database are allocated to these provinces. The geologic provinces are being further subdivided into petroleum systems and assessment units in order to appraise the undiscovered petroleum potential of selected provinces of the world. Specific details of the data sources and map compilation are given in the metadata file on this CD-ROM. Smaller stratigraphic subdivisions of Phanerozoic rock are combined to simplify the map and to maintain consistency with other maps of the series. Precambrian rocks are undivided. Oil and gas field markers represent field centerpoints published with permission from Petroconsultants International Data Corp.,1996 database. This map is compiled using Environmental Systems Research Institute, Inc. (ESRI) ARC/INFO software. Political boundaries and cartographic representations on this map were taken, with permission, from ESRI's ArcWorld 1:3M digital coverages, have no political significance, and are displayed as general reference only. Portions of this database covering the coastline and country boundaries contain intellectual property of Environmental Systems Research Institute, Inc. (ESRI), and are used herein with permission. Copyright 1992 and 1996, Environmental Systems Research Institute, Inc. All rights reserved.
Map Name: Layers
Legend
All Layers and Tables
Dynamic Legend
Dynamic All Layers
Layers:
Description:
Service Item Id: c9aead293cbc49f1a6541f5719607c77
Copyright Text: Schenk, C.J., Viger, R.J., and Anderson, C.P.
Spatial Reference:
102100
(3857)
LatestVCSWkid(0)
Single Fused Map Cache: true
Tile Info:
- Height: 256
- Width: 256
- DPI: 96
-
Levels of Detail: 24
-
Level ID: 1
[ Start Tile, End Tile ]
- Resolution: 78271.5169639999
- Scale: 2.95828763795777E8
-
Level ID: 2
[ Start Tile, End Tile ]
- Resolution: 39135.7584820001
- Scale: 1.47914381897889E8
-
Level ID: 3
[ Start Tile, End Tile ]
- Resolution: 19567.8792409999
- Scale: 7.3957190948944E7
-
Level ID: 4
[ Start Tile, End Tile ]
- Resolution: 9783.93962049996
- Scale: 3.6978595474472E7
-
Level ID: 5
[ Start Tile, End Tile ]
- Resolution: 4891.96981024998
- Scale: 1.8489297737236E7
- Format: PNG
- Compression Quality: 0.0
- Origin: X: -2.0037508342787E7
Y: 2.0037508342787E7
- Spatial Reference: 102100
(3857)
LatestVCSWkid(0)
Storage Info:
- Storage Format: esriMapCacheStorageModeCompactV2
- Packet Size: 128
Initial Extent:
XMin: -1.2431569614351563E7
YMin: -1360349.673334142
XMax: -1365349.565244791
YMax: 3369086.8688722793
Spatial Reference: 102100
(0)
LatestVCSWkid(0)
Full Extent:
XMin: -9104010.8351
YMin: -7763343.2765999995
XMax: -3275679.3418000005
YMax: 1537391.827399999
Spatial Reference: 102100
(0)
LatestVCSWkid(0)
Units: esriMeters
Supported Image Format Types: PNG32,PNG24,PNG,JPG,DIB,TIFF,EMF,PS,PDF,GIF,SVG,SVGZ,BMP
Document Info:
Title: Map Service Showing Geology, Oil and Gas Fields, and Geologic Provinces of South America
Author: Schenk, C.J., Viger, R.J., and Anderson, C.P.
Comments: This digitally compiled map includes geology, oil and gas fields, and geologic provinces of South America. The oil and gas map is part of a worldwide series released on CD-ROM by the World Energy Project of the U.S. Geological Survey. For data management purposes the world is divided into eight energy regions corresponding approximately to the economic regions of the world as defined by the U.S. Department of State. South America (Region 6) includes Argentina, Bolivia, Brazil, Chile, Columbia, Ecuador, Falkland Islands, French Guiana, Guyuna, Netherlands, Netherlands Antilles, Paraguay, Peru, Suriname, Trinidad and Tobago, Uruguay, and Venezuela. The goal of the World Energy Project was to assess the undiscovered, technically recoverable oil and gas resources of the world and report these results by the year 2000. Geologic province boundaries for South America are delineated using data from a number of geologic maps, and other tectonic and geographic data. Offshore province boundaries are defined by the 4000 meter bathymetric contour. Oil and gas field data from Petroconsultants International Data Corporation worldwide oil and gas field database are allocated to these provinces. The geologic provinces were further subdivided into petroleum systems and assessment units in order to appraise the undiscovered petroleum potential of selected provinces of the world. Portions of this database covering the coastline and country boundaries contain intellectual property of Environmental Systems Research Institute, Inc. (ESRI), and are used herein with permission. Copyright 1992 and 1996, Environmental Systems Research Institute, Inc. All rights reserved.
Subject: Geology, Oil and Gas Fields, Geologic Provinces
Category:
Keywords: Geology,Earth Science,Natural Resources,U.S. Geological Survey,USGS,Geology
AntialiasingMode: None
TextAntialiasingMode: Force
Supports Dynamic Layers: true
MaxRecordCount: 1000
MaxSelectionCount: 2000
MaxImageHeight: 4096
MaxImageWidth: 4096
Supported Query Formats: JSON, geoJSON, PBF
Supports Query Data Elements: true
Min Scale: 5.91657527591555E8
Max Scale: 577790.554289
Min LOD: 0
Max LOD: 10
Supports Datum Transformation: true
Child Resources:
Info
Dynamic Layer
Supported Operations:
Export Map
Identify
QueryLegends
QueryDomains
Find
Return Updates