View In:
ArcGIS JavaScript
ArcGIS Online Map Viewer
ArcGIS Earth
ArcMap
ArcGIS Pro
View Footprint In:
ArcGIS Online Map Viewer
Service Description: This digitally compiled map includes geology, geologic provinces, and oil and gas fields of Europe including Turkey. The maps are part of a worldwide series of maps on CD-ROM released by the U.S. Geological Survey's World Energy Project. The goal of the project is to assess the undiscovered, technically recoverable oil and gas resources of the world. For data management purposes the world was divided into eight energy regions corresponding approximately to the economic regions of of the world as defined by the U.S. Department of State. Europe (Region 4) includes Albania, Andorra, Austria, Belgium, Bosnia and Herzegovina, Bulgaria, Bulgaria, Croatia, Cyprus, Czech Republic, Denmark, Finland, France, Germany, Greece, Hungary, Iceland, Ireland, Italy, Liechtenstein, Luxembourg, The Former Yugoslav Republic of Macedonia, Malta, Monaco, Netherlands, Norway, Poland, Portugal, Romania, San Marino, Serbia and Montenegro, Slovakia, Slovenia, Spain, Sweden, Switzerland, United Kingdom and Vatican. The depicted portion of Region 2 includes Turkey. Each region is divided into geologic provinces. Each province has a set of geologic characteristics that distinguish it from surrounding provinces. These characteristics may include the predominant lithologies, the age of the strata, and the structural style. Some provinces include multiple genetically-related basins. Geologic province boundaries are delineated using data from a number of geologic maps and other tectonic and geographic data (see References). Offshore province boundaries are defined by the 2000 meter bathymetric contour. Each province is assigned a unique number. Because geologic trends are independent of political boundaries, some provinces overlap two regions. The code of those provinces that lie entirely within Europe begin with the number 4 and those provinces that lie entirely within Turkey begin with the number 2. The code of those provinces that lie partly within another region may start with a 1, for the Former Soviet Union (Persits and others 1998) or a 2, for Middle East and North Africa (Pollastro , 1998; Persits and others, 1997). The centerpoint locations of oil and gas fields are plotted based on the locations in the Petroconsultants International Data Corp. (1996) database with permission. Selected provinces are currently being investigated, by Total Petroleum System analysis, and assessments are being made of the undiscovered oil and gas resource potential of these provinces. Klett and others (1997) discuss the worldwide geologic provinces and their relative ranking in terms of total known petroleum volume. Specific details of the data sources and map compilation are given in the metadata files on this CD-ROM. Some stratigraphic units are combined to simplify the map and to ensure consistency across the region. All rocks are colored by age. Igneous and metamorphic rocks are identified with fill patterns and colors. These maps are compiled using Environmental Systems Research Institute Inc. (ESRI) ARC/INFO software. Political boundaries and cartographic representations on this map are taken, with permission from ESRI's ArcWorld 1:3M digital coverage; they have no political significance and are displayed as general reference only. Portions of this database covering the coastline and country boundaries contain intellectual property of ESRI. (© 1992 and 1996, Environmental Systems Research Institute Inc. All rights reserved.)
Map Name: Layers
Legend
All Layers and Tables
Dynamic Legend
Dynamic All Layers
Layers:
Description:
Service Item Id: 8132e934bf55438db7c7500886ee9909
Copyright Text: Mark J. Pawlewicz Douglas W. Steinshouer and Donald L. Gautier
Spatial Reference:
102100
(3857)
Single Fused Map Cache: true
Tile Info:
- Height: 256
- Width: 256
- DPI: 96
-
Levels of Detail: 24
-
Level ID: 0
[ Start Tile, End Tile ]
- Resolution: 156543.03392800014
- Scale: 5.91657527591555E8
-
Level ID: 1
[ Start Tile, End Tile ]
- Resolution: 78271.51696399994
- Scale: 2.95828763795777E8
-
Level ID: 2
[ Start Tile, End Tile ]
- Resolution: 39135.75848200009
- Scale: 1.47914381897889E8
-
Level ID: 3
[ Start Tile, End Tile ]
- Resolution: 19567.87924099992
- Scale: 7.3957190948944E7
-
Level ID: 4
[ Start Tile, End Tile ]
- Resolution: 9783.93962049996
- Scale: 3.6978595474472E7
-
Level ID: 5
[ Start Tile, End Tile ]
- Resolution: 4891.96981024998
- Scale: 1.8489297737236E7
- Format: PNG
- Compression Quality: 0.0
- Origin: X: -2.0037508342787E7
Y: 2.0037508342787E7
- Spatial Reference: 102100
(3857)
Initial Extent:
XMin: 129053.73481224803
YMin: 4201311.531515796
XMax: 6768785.764276307
YMax: 7038973.456839647
Spatial Reference: 102100
Full Extent:
XMin: -3723525.305299999
YMin: 3434339.3324000016
XMax: 5765487.6164
YMax: 1.1996027206799999E7
Spatial Reference: 102100
Units: esriMeters
Supported Image Format Types: PNG32,PNG24,PNG,JPG,DIB,TIFF,EMF,PS,PDF,GIF,SVG,SVGZ,BMP
Document Info:
Title: Map Service Showing Geology, Oil and Gas Fields, and Geologic Provinces of Europe including Turkey
Author: Pawlewicz, M.J., Steinshouer, D.W., and Gautier, D.L.
Comments: This digitally compiled map includes geology, oil and gas fields, and geologic provinces of Europe. The oil and gas map is part of a worldwide series released on CD-ROM by the World Energy Project of the U.S. Geological Survey. For data management purposes the world is divided into eight energy regions corresponding approximately to the economic regions of the world as defined by the U.S. Department of State. Europe (Region 4) including Turkey (Region 2) includes Albania, Andorra, Austria, Belgium, Bosnia and Herzegovina, Bulgaria, Croatia, Cyprus, Czech Republic, Denmark, Finland, France, Germany, Greece, Hungary, Iceland, Ireland, Italy, Liechtenstein, Luxembourg, The Former Yugoslav Republic of Macedonia, Malta, Monaco, Netherlands, Norway, Poland, Portugal, Romania, San Marino, Serbia and Montenegro, Slovakia, Slovenia, Spain, Sweden, Switzerland, Turkey, United Kingdom, Vatican City, Faroe Islands, Gibraltar, Guernsey, Jersey, Isle of Man, Svalbard.The goal of the World Energy Project was to assess the undiscovered, technically recoverable oil and gas resources of the world and report these results by the year 2000. Geologic province boundaries for Europe including Turkey are delineated using data from a number of geologic maps, and other tectonic and geographic data. Offshore province boundaries are defined by the 4000 meter bathymetric contour. Oil and gas field data from Petroconsultants International Data Corporation worldwide oil and gas field database are allocated to these provinces. The geologic provinces were further subdivided into petroleum systems and assessment units in order to appraise the undiscovered petroleum potential of selected provinces of the world.This database contains intellectual property of the United Nations Educational, Scientific and Cultural Organization (UNESCO) and of the Commission for the Geological Map of the World (CMGW), and is used with their permission. Portions of this database covering coastline and country boundaries contain intellectual property of Environmental Systems Research Institute, Inc. (ESRI), and are used with their permission. End users are permitted to use these data sets for their own internal use, including derivative work, but are prohibited from using and redistributing these data individually or in a derivative work to third parties.
Subject: Geology, Oil and Gas Fields, Geologic Provinces
Category:
Keywords: Geology,Geologic Maps,USGS,U.S. Geological Survey,Earth Science,Europe,Turkey
AntialiasingMode: None
TextAntialiasingMode: Force
Supports Dynamic Layers: true
MaxRecordCount: 1000
MaxImageHeight: 4096
MaxImageWidth: 4096
Supported Query Formats: JSON, geoJSON
Supports Query Data Elements:
Min Scale: 5.91657527591555E8
Max Scale: 288895.277144
Min LOD: 0
Max LOD: 11
Supports Datum Transformation: true
Child Resources:
Info
Dynamic Layer
Supported Operations:
Export Map
Identify
QueryLegends
QueryDomains
Find
Return Updates