View In:
ArcGIS JavaScript
ArcGIS Online Map Viewer
ArcGIS Earth
ArcGIS Pro
Service Description: The data set for these maps includes arcs, polygons, and labels that outline and describe the general geologic age and geophysical fields of Bangladesh. Political boundaries are provided to show the general location of administrative regions and state boundaries. Major base topographic data like cities, rivers, etc. were derived from the same paper map source as the geology. The data provide government, the geologic community, consultants, and the general public with an important geological base for small scale natural resource surveys, exploration and analysis. The maps on this CD-ROM have been compiled from:
1. Md. Khurshid Alam, A.K.M.Shahidul Hasan, and Mujibur Rahman Khan (Geological Survey of Bangladesh), and John W. Whitney (United States Geological Survey), 1990, Geological Map of Bangladesh: Geological Survey of Bangladesh Publication, scale 1:1,000,000.
2. M.A. Rahman, (Geological Survey of Bangladesh), M.A. Mannan, (Bangladesh Petroleum Exploration Company), H. R. Blank, M.D. Kleinkopf, and R. P. Kucks, (United States Geological Survey), 1990, Bouguer Gravity Anomaly Map of Bangladesh: Geological Survey of Bangladesh Publication,, scale 1:1,000,000.
3. M.A. Rahman, (Geological Survey of Bangladesh), H. R. Blank, M.D. Kleinkopf, and R. P.Kucks, (United States Geological Survey), 1990, Aeromagnetic Anomaly Map of Bangladesh: Geological Survey of Bangladesh Publication,, scale 1:1,000,000.
Map Name: Layers
Legend
All Layers and Tables
Dynamic Legend
Dynamic All Layers
Layers:
Description:
Service Item Id: 7e00acf202074b86a1fffa52e67933e4
Copyright Text: Persits, F.M., Wandrey, C.J., Milici, R.C., Manwar A.
Spatial Reference:
102100
(3857)
LatestVCSWkid(0)
Single Fused Map Cache: true
Tile Info:
- Height: 256
- Width: 256
- DPI: 96
-
Levels of Detail: 24
-
Level ID: 1
[ Start Tile, End Tile ]
- Resolution: 78271.5169639999
- Scale: 2.95828763795777E8
-
Level ID: 2
[ Start Tile, End Tile ]
- Resolution: 39135.7584820001
- Scale: 1.47914381897889E8
-
Level ID: 3
[ Start Tile, End Tile ]
- Resolution: 19567.8792409999
- Scale: 7.3957190948944E7
-
Level ID: 4
[ Start Tile, End Tile ]
- Resolution: 9783.93962049996
- Scale: 3.6978595474472E7
-
Level ID: 5
[ Start Tile, End Tile ]
- Resolution: 4891.96981024998
- Scale: 1.8489297737236E7
- Format: PNG
- Compression Quality: 0.0
- Origin: X: -2.0037508342787E7
Y: 2.0037508342787E7
- Spatial Reference: 102100
(3857)
LatestVCSWkid(0)
Storage Info:
- Storage Format: esriMapCacheStorageModeCompactV2
- Packet Size: 128
Initial Extent:
XMin: 8676341.499328753
YMin: 2415926.5032590237
XMax: 1.1332234311114395E7
YMax: 3550991.273388572
Spatial Reference: 102100
(0)
LatestVCSWkid(0)
Full Extent:
XMin: 9793743.943300001
YMin: 2236615.1358999982
XMax: 1.03376010433E7
YMax: 3090191.5359000005
Spatial Reference: 102100
(0)
LatestVCSWkid(0)
Units: esriMeters
Supported Image Format Types: PNG32,PNG24,PNG,JPG,DIB,TIFF,EMF,PS,PDF,GIF,SVG,SVGZ,BMP
Document Info:
Title: Map Service Showing Geologic and Geophysical Data of Bangladesh
Author: Persits, F.M., Wandrey, C.J., Milici, R.C., Manwar A.
Comments: This map service includes geology, major faults, geologic provinces, and political boundaries in Bangladesh. This compilation is part of an interim product of the U.S. Geological Survey's World Energy Project (WEP) and part of a series on CD-ROM. The data sets include arcs, polygons, and labels that outline and describe the general geologic age and geophysical fields of Bangladesh. Political boundaries are provided to show the general location of administrative regions and state boundaries. Major base topographic data like cities, rivers, etc. were derived from the same paper map source as the geology.The data provide government, the geologic community, consultants, and the general public with an important geological base for small scale natural resource surveys, exploration and analysis. Although a geologic map displays the geographic distribution of the different geologic units and rock types for numerous purposes, this data set was compiled primarily for the World Energy Project as part of a required strategic base for assessing the petroleum potential of this region. For this purpose, the map provides an outline of the general geographic distribution of both known or hypothetical petroleum-potential formations and units, that is, sedimentary rocks and basins, and areas containing igneous and metamorphic rocks which have virtually little or no potential. The map was also compiled, in part, to provide a basis for outlining the geographic and petroleum provinces. This basic geologic data set, combined with numerous others, such as tectonic and burial histories, distribution of known oil and gas fields, distribution and quality of reservoir rocks, organic geochemistry, etc., will ultimately define the basis for the assessment of undiscovered oil and gas in Bangladesh. Geologic and Geophysical Data of Bangladesh is a GIS data set designed originally in ESRI's ARC/INFO ver. 8.0.2 software. This map service depicts geology, major faults, major cities, a latitude/longitude graticule, gravity and magnetic field maps, and base topographic data, like roads, rivers, and lakes that are depicted in ArcView 3x and ArcExplorer projects on the CD-ROM publication. The published CD-ROM also contains five EPS files and four PDF files that can be used to plot final paper maps.
Subject: Geology, Geologic Provinces
Category:
Keywords: geology,geologic map,geologic age,lithology,fault,digital geologic map,Bangladesh,South Asia
AntialiasingMode: None
TextAntialiasingMode: Force
Supports Dynamic Layers: true
Resampling: false
MaxRecordCount: 1000
MaxSelectionCount: 2000
MaxImageHeight: 4096
MaxImageWidth: 4096
Supported Query Formats: JSON, geoJSON, PBF
Supports Query Data Elements: true
Min Scale: 5.91657527591555E8
Max Scale: 288895.277144
Min LOD: 0
Max LOD: 11
Supports Datum Transformation: true
Child Resources:
Info
Dynamic Layer
Supported Operations:
Export Map
Identify
QueryLegends
QueryDomains
Find
Return Updates