View In:
ArcGIS JavaScript
ArcGIS Online Map Viewer
ArcGIS Earth
ArcMap
ArcGIS Pro
View Footprint In:
ArcGIS Online Map Viewer
Service Description: This digital map compilation, which includes geology, geologic provinces, and oil and gas fields of the Arabian Peninsula, is part of a map series of the world produced by the U.S. Geological Survey World Energy Project. The goal of the project is to produce a worldwide assessment of the undiscovered, technically recoverable oil and gas resources and report these results by the year 2000. To assess the world's petroleum, a sequence of steps is being undertaken proceeding from defining geologic provinces of the world at a comparable scale, allocating oil and gas fields to these provinces, defining petroleum systems within these provinces, and ultimately assessing the undiscovered petroleum potential of selected provinces of the world. A more in-depth discussion of the geologic provinces and their relative ranking in terms of total known petroleum volume is given in USGS Open File Report 97-463 (see Klett and others, 1997). For the World Energy assessment, the world was divided into eight energy regions which correspond approximately with the economic regions of the world as defined by the U.S. Department of State. The Arabian Peninsula portion of Region 2 is represented on this CD-ROM (see insert Reference Map on geologic map). The geology map of the Arabian Peninsula was compiled and synthesized primarily from the U.S. Geological Survey-- Arabian American Oil Company, 1963, 1:2,000,000 scale Geologic map of the Arabian Peninsula. Additional geology in the northern portion of this map for parts of Iraq, Jordan, Syria, Israel, and Lebanon was derived with permission from the 1:5,000,000 scale, 1971 version of the Geologic Map of Europe, Eastern sheet, published by UNESCO (see Selected References no.4). Specific details of the data sources are given in the metadata file on this CD-ROM. Map units were combined to simplify the map when projected at a larger scale and to maintain consistency with other region maps. Precambrian rocks are undivided and consist of sedimentary, metamorphic, and igneous types. The boundary for Region 2 (Middle East/North Africa) is shown as an inset on the map. Oil and gas field markers represent field centerpoints published with permission from Petroconsultants International Data Corp., 1996 database. Each region was divided into geologic provinces. Geologic province boundaries for the Arabian Peninsula were delineated onshore using data from the U.S. Geological Survey--Arabian American Oil Company, and UNESCO geologic maps (see Selected References), and other tectonic and geographical data from the publications listed in the Selected References section. Offshore geologic province boundaries are defined by the 2000 meter bathymetric contour from the U.S. Geologic Survey--Arabian American Oil Company 1963 geologic map (see Selected References). Provinces may contain one dominant element or a number of contiguous elements or basins that are genetically related. Each geologic province was assigned a unique number; the first digit is the region number. An attempt was made to number the provinces in geographical order. In the Arabian Peninsula the numbering starts in the southernmost portion of the peninsula, generally increasing to the east and north. This map was compiled and displayed using Environmental Systems Research Institute, Inc. (ESRI) Arc/Info, ARCVIEW, and ArcPlot softwares. Political boundaries and their cartographic representation on this map were taken with permission from ESRI's ArcWorld 1:3,000,000 Arc/Info digital coverage, have no political significance, and are displayed as general reference only. Refer to the ESRI licensing agreement in the ESRI license folder on the CD-ROM.
Map Name: Layers
Legend
All Layers and Tables
Dynamic Legend
Dynamic All Layers
Layers:
Description:
Service Item Id: 4535aa0d852944beab0431dc4a855ed8
Copyright Text: Pollastro, R.M., Karshbaum, A.S., and Viger, R.J.
Spatial Reference:
102100
(3857)
Single Fused Map Cache: true
Tile Info:
- Height: 256
- Width: 256
- DPI: 96
-
Levels of Detail: 24
-
Level ID: 0
[ Start Tile, End Tile ]
- Resolution: 156543.03392800014
- Scale: 5.91657527591555E8
-
Level ID: 1
[ Start Tile, End Tile ]
- Resolution: 78271.51696399994
- Scale: 2.95828763795777E8
-
Level ID: 2
[ Start Tile, End Tile ]
- Resolution: 39135.75848200009
- Scale: 1.47914381897889E8
-
Level ID: 3
[ Start Tile, End Tile ]
- Resolution: 19567.87924099992
- Scale: 7.3957190948944E7
-
Level ID: 4
[ Start Tile, End Tile ]
- Resolution: 9783.93962049996
- Scale: 3.6978595474472E7
-
Level ID: 5
[ Start Tile, End Tile ]
- Resolution: 4891.96981024998
- Scale: 1.8489297737236E7
- Format: PNG
- Compression Quality: 0.0
- Origin: X: -2.0037508342787E7
Y: 2.0037508342787E7
- Spatial Reference: 102100
(3857)
Initial Extent:
XMin: 3014186.500977635
YMin: 2413241.6140959067
XMax: 7440674.520620339
YMax: 4305016.230978473
Spatial Reference: 102100
Full Extent:
XMin: 3599711.5867
YMin: 1290170.6750999987
XMax: 6726103.315699998
YMax: 4657338.032799996
Spatial Reference: 102100
Units: esriMeters
Supported Image Format Types: PNG32,PNG24,PNG,JPG,DIB,TIFF,EMF,PS,PDF,GIF,SVG,SVGZ,BMP
Document Info:
Title: Map Service Showing Geology and Geologic Provinces of the Arabian Peninsula
Author: Pollastro, R.M., Karshbaum, A.S., and Viger, R.J.
Comments: The geology data set for this map includes arcs, polygons, and labels that outline and describe the general geologic age and type of bedrock of the Arabian Peninsula and selected adjacent areas. The geologic provinces data set includes geologic and petroleum provinces interpreted and designated by R.M. Pollastro from a number of literature and map resources to assist in the assessment of oil and gas resources for the USGS World Energy Project. Political boundaries are provided to show the general location of country and/or other reference 'political' boundaries.Although a geologic map displays the geographic distribution of the different geologic units and rock types for numerous purposes, this data set was compiled primarily for the World Energy Project as part of a required strategic base for assessing the petroleum potential of this region. For this purpose, the map provides an outline of the general geographic distribution of both known or hypothetical petroleum-potential formations and units, that is, sedimentary rocks and basins, and areas containing igneous and metamorphic rocks which have virtually little or no potential. The map was also compiled, in part, to provide a basis for outlining the geographic and petroleum provinces. This basic geologic data set, combined with numerous others, such as tectonic and burial histories, distribution of known oil and gas fields, distribution and quality of reservoir rocks, organic geochemistry, etc., ultimately define the basis for the assessment of undiscovered oil and gas in the Arabian Peninsula.
Subject: Geology, Geologic Provinces
Category:
Keywords: Geology,Geologic Maps,USGS,U.S. Geological Survey,Earth Science,Arabian Peninsula
AntialiasingMode: None
TextAntialiasingMode: Force
Supports Dynamic Layers: true
MaxRecordCount: 1000
MaxImageHeight: 4096
MaxImageWidth: 4096
Supported Query Formats: JSON, geoJSON
Supports Query Data Elements:
Min Scale: 5.91657527591555E8
Max Scale: 288895.277144
Min LOD: 0
Max LOD: 11
Supports Datum Transformation: true
Child Resources:
Info
Dynamic Layer
Supported Operations:
Export Map
Identify
QueryLegends
QueryDomains
Find
Return Updates