View In:
ArcGIS JavaScript
ArcGIS Online Map Viewer
ArcGIS Earth
ArcGIS Pro
Service Description: This map was created as part of a worldwide series of geologic maps for the U.S. Geological Survey's World Energy Project. These products are available on CD-ROM and through the Internet. The goal of the project is to assess the undiscovered, technically recoverable oil and gas resources of the world. Most of the source data for this map compilation were digitized from the Geologic-Tectonic Map of the Caribbean Region by J.E. Case and T.L. Holcombe, at a scale of 1:2,500,000. For data management purposes, the world was divided into eight energy regions based on political boundaries and corresponding approximately to the economic regions of the world as defined by the U.S. Department of State. Region Six encompasses the Caribbean area, Central America, and South America. Other products are also available related to Region Six, including the Geologic Map of South America (USGS Open File Report 97-470-D). Countries listed below are shown whole or in part within the map extent of the Caribbean region: Anguilla Antigua and Barbuda Aruba Bahamas Barbados Belize British Virgin Islands Cayman Islands Colombia Costa Rica Cuba Dominica Dominican Republic El Salvador Grenada Guadeloupe Guatemala Guyana Haiti Honduras Jamaica Martinique Mexico Montserrat Netherlands Antilles Nicaragua Panama Puerto Rico St. Kitts and Nevis St. Lucia St. Vincent and the Grenadines Trinidad and Tobago Turks and Caicos Islands United States Venezuela Virgin Islands The world was previously divided into geologic provinces for the World Energy Project, of which a subset is shown on the map. Each province has a set of geologic characteristics that distinguish it from surrounding provinces. These characteristics may include dominant lithologies, the age of the strata, and/or structural type. Each province is assigned a unique number and may fall within two or more countries or assessment regions. The World Geographic Coordinate System of 1984 was used for data storage and map display. Other details about the map compilation and data sources are provided in several metadata formats in the data section on this CD-ROM. Various software packages were used to create this map including: Environmental Systems Research Institute, Inc. (ESRI) ArcGIS 8.3, ArcInfo software, Adobe Photoshop CS, Illustrator CS, and Acrobat 6.0.
Map Name: Layers
Legend
All Layers and Tables
Dynamic Legend
Dynamic All Layers
Layers:
Description:
Service Item Id: 6481679805524eea907be575b1b5c1b4
Copyright Text: Christopher D. French and Christopher J. Schenk
Spatial Reference:
102100
(3857)
LatestVCSWkid(0)
Single Fused Map Cache: true
Tile Info:
- Height: 256
- Width: 256
- DPI: 96
-
Levels of Detail: 24
-
Level ID: 0
[ Start Tile, End Tile ]
- Resolution: 156543.03392800014
- Scale: 5.91657527591555E8
-
Level ID: 1
[ Start Tile, End Tile ]
- Resolution: 78271.51696399994
- Scale: 2.95828763795777E8
-
Level ID: 2
[ Start Tile, End Tile ]
- Resolution: 39135.75848200009
- Scale: 1.47914381897889E8
-
Level ID: 3
[ Start Tile, End Tile ]
- Resolution: 19567.87924099992
- Scale: 7.3957190948944E7
-
Level ID: 4
[ Start Tile, End Tile ]
- Resolution: 9783.93962049996
- Scale: 3.6978595474472E7
-
Level ID: 5
[ Start Tile, End Tile ]
- Resolution: 4891.96981024998
- Scale: 1.8489297737236E7
- Format: PNG
- Compression Quality: 0.0
- Origin: X: -2.0037508342787E7
Y: 2.0037508342787E7
- Spatial Reference: 102100
(3857)
LatestVCSWkid(0)
Storage Info:
- Storage Format: esriMapCacheStorageModeCompactV2
- Packet Size: 128
Initial Extent:
XMin: -1.0032560846387658E7
YMin: 472380.5379870655
XMax: -5606072.826744951
YMax: 2364155.154869633
Spatial Reference: 102100
(0)
LatestVCSWkid(0)
Full Extent:
XMin: -1.03544899866E7
YMin: 784114.1638999991
XMax: -6349199.4256
YMax: 3248973.8048
Spatial Reference: 102100
(0)
LatestVCSWkid(0)
Units: esriMeters
Supported Image Format Types: PNG32,PNG24,PNG,JPG,DIB,TIFF,EMF,PS,PDF,GIF,SVG,SVGZ,BMP
Document Info:
Title: Map Service Showing Geology, Oil and Gas Fields, and Geologic Provinces of the Caribbean Region
Author: Christopher D. French and Christopher J. Schenk
Comments: This map was created as part of a worldwide series of geologic maps for the U.S. Geological Survey's World Energy Project. These products are available on CD-ROM and through the Internet. The goal of the project is to assess the undiscovered, technically recoverable oil and gas resources of the world. Most of the source data for this map compilation were digitized from the Geologic-Tectonic Map of the Caribbean Region by J.E. Case and T.L. Holcombe, at a scale of 1:2,500,000. For data management purposes, the world was divided into eight energy regions based on political boundaries and corresponding approximately to the economic regions of the world as defined by the U.S. Department of State. Region Six encompasses the Caribbean area, Central America, and South America. Other products are also available related to Region Six, including the Geologic Map of South America (USGS Open File Report 97-470-D). Countries listed below are shown whole or in part within the map extent of the Caribbean region: Anguilla Antigua and Barbuda Aruba Bahamas Barbados Belize British Virgin Islands Cayman Islands Colombia Costa Rica Cuba Dominica Dominican Republic El Salvador Grenada Guadeloupe Guatemala Guyana Haiti Honduras Jamaica Martinique Mexico Montserrat Netherlands Antilles Nicaragua Panama Puerto Rico St. Kitts and Nevis St. Lucia St. Vincent and the Grenadines Trinidad and Tobago Turks and Caicos Islands United States Venezuela Virgin Islands The world was previously divided into geologic provinces for the World Energy Project, of which a subset is shown on the map. Each province has a set of geologic characteristics that distinguish it from surrounding provinces. These characteristics may include dominant lithologies, the age of the strata, and/or structural type. Each province is assigned a unique number and may fall within two or more countries or assessment regions. The World Geographic Coordinate System of 1984 was used for data storage and map display. Other details about the map compilation and data sources are provided in several metadata formats in the data section on this CD-ROM. Various software packages were used to create this map including: Environmental Systems Research Institute, Inc. (ESRI) ArcGIS 8.3, ArcInfo software, Adobe Photoshop CS, Illustrator CS, and Acrobat 6.0.This publication was prepared by an agency of the United States Government. Neither the United States Government nor any agency thereof, nor any of their employees, makes any warranty, expressed or implied, or assumes any legal liability or responsibility for the accuracy, completeness, or usefulness of any information, apparatus, product, or process disclosed in this report, or represents that its use would not infringe privately owned rights. Reference therein to any specific commercial product, process, or service by trade name, trademark, manufacturer, or otherwise does not necessarily constitute or imply its endorsement, recommendation, or favoring by the United States Government or any agency thereof. Although all data and software published are used by the U.S. Geological Survey, no warranty, expressed or implied, is made by the U.S. Geological Survey as to the accuracy of the data and related materials and (or) the functioning of the software. The act of distribution shall not constitute any such warranty, and no responsibility is assumed by the U.S. Geological Survey in the use of these data, software, or related materials.
Subject: Geology, Oil and Gas Fields, Geologic Provinces
Category:
Keywords: Geology,Geologic Maps,USGS,U.S. Geological Survey,Earth Science,Caribbean Region
AntialiasingMode: None
TextAntialiasingMode: Force
Supports Dynamic Layers: true
MaxRecordCount: 1000
MaxSelectionCount: 2000
MaxImageHeight: 4096
MaxImageWidth: 4096
Supported Query Formats: JSON, geoJSON, PBF
Supports Query Data Elements: true
Min Scale: 5.91657527591555E8
Max Scale: 288895.277144
Min LOD: 0
Max LOD: 11
Supports Datum Transformation: true
Child Resources:
Info
Dynamic Layer
Supported Operations:
Export Map
Identify
QueryLegends
QueryDomains
Find
Return Updates