View In:
ArcGIS JavaScript
ArcGIS Online Map Viewer
ArcGIS Earth
ArcMap
ArcGIS Pro
View Footprint In:
ArcGIS Online Map Viewer
Service Description: This digitally compiled map includes geology, oil and gas field centerpoints, geologic provinces, and major faults of Iran with some of these components extended into geographically adjacent areas. This digital compilation is an interim product of the U.S. Geological Survey's World Energy Project (WEP) and part of a series on CD-ROM. The goal of the WEP is to assess the undiscovered, technically recoverable oil and gas resources of the world and report the result of this assessment in the year 2000. For data management purposes, the world was divided into eight energy regions corresponding approximately to the economic regions of the world as defined by the U.S. Department of State. Each world energy region was then further divided into geologic provinces on the basis of natural geologic entities and may include a dominant geologic structural element or a number of contiguous elements. Some provinces contain multiple, genetically-related basins. Geologic province boundaries for Iran were delineated using data from different geologic maps, publications, and other tectonic and geographic data. Each province was assigned a unique number; the first digit is the region number. An attempt was made to number the provinces in geographical order or groups with numbering starting at the Arabian Shield (see Pollastro and others, 1998). The list of provinces sorted by number is shown to the right of the map. Centerpoints of oil and gas fields are shown and were plotted with permission from Petroconsultants International Data Corporation, 1996 worldwide oil and gas field database. Allocation of field data to geologic provinces provided a ranking of the provinces by total known petroleum volume (see Klett and others, 1997). The WEP further characterizes the geologic provinces by petroleum system and assessment units in order to assess the undiscovered petroleum volume. Specific details of map and data sources, and the procedure used in the compilation of this geologic map of Iran are given in the metadata file and described briefly in the text below. Stratigraphic subdivisions of Phanerozoic rocks were combined to simplify the geology and maintain consistency with other maps in this series. Precambrian rocks are undivided. This map was compiled using Environmental Systems Research Institute, Inc.(ESRI) ARC/INFO software. Political boundaries and cartographic representations are used, with permission, from ESRI's ArcWorld 1:3M digital coverages, have no political significance, and are displayed for general reference only.
Map Name: Layers
Legend
All Layers and Tables
Dynamic Legend
Dynamic All Layers
Layers:
Description:
Service Item Id: a29960a9d9d144368db4cc9834e261ff
Copyright Text: R. M. Pollastro, F. M. Persits, and D. W. Steinshouer
Spatial Reference:
102100
(3857)
Single Fused Map Cache: true
Tile Info:
- Height: 256
- Width: 256
- DPI: 96
-
Levels of Detail: 24
-
Level ID: 1
[ Start Tile, End Tile ]
- Resolution: 78271.5169639999
- Scale: 2.95828763795777E8
-
Level ID: 2
[ Start Tile, End Tile ]
- Resolution: 39135.7584820001
- Scale: 1.47914381897889E8
-
Level ID: 3
[ Start Tile, End Tile ]
- Resolution: 19567.8792409999
- Scale: 7.3957190948944E7
-
Level ID: 4
[ Start Tile, End Tile ]
- Resolution: 9783.93962049996
- Scale: 3.6978595474472E7
-
Level ID: 5
[ Start Tile, End Tile ]
- Resolution: 4891.96981024998
- Scale: 1.8489297737236E7
- Format: PNG
- Compression Quality: 0.0
- Origin: X: -2.0037508342787E7
Y: 2.0037508342787E7
- Spatial Reference: 102100
(3857)
Initial Extent:
XMin: 3712792.125112097
YMin: 3260574.952426603
XMax: 7837964.637532116
YMax: 5023574.561739403
Spatial Reference: 102100
(3857)
Full Extent:
XMin: 4855323.467599999
YMin: 2842340.0799000002
XMax: 7289675.121399999
YMax: 4886944.3276999965
Spatial Reference: 102100
(3857)
Units: esriMeters
Supported Image Format Types: PNG32,PNG24,PNG,JPG,DIB,TIFF,EMF,PS,PDF,GIF,SVG,SVGZ,BMP
Document Info:
Title: Map Service Showing Geology, Oil and Gas Fields, and Geological Provinces of Iran
Author: Pollastro, R.M., Persits, F.M., and Steinshouer, D.W.
Comments: The geology data set for this map includes arcs, polygons, and labels that outline and describe the general geologic age and type of bedrock of Iran. The geologic provinces data set includes arcs, polygons, and labels of geologic and petroleum provinces interpreted and designated by R.M. Pollastro from a number of literature and map resources to assist in the assessment of oil and gas resources for the USGS World Energy Project. The oil and gas field centerpoints data set is a point coverage that marks the approximate centerpoints of oil and gas fields in Iran. Political boundaries are provided to show the general location of country and/or other reference 'political' boundaries.The data provide government, geological community, consultants, and the general public with the important geological base that is used to define geologic provinces and oil and gas field assignments for USGS Oil and Gas Assessment of the World.Map showing Geology, Oil and Gas fields and Geologic Provinces of Iran is a GIS data set designed originally in ESRI's ARC/INFO ver. 7.0.4 and 7.1.2 software.The oil and gas field centerpoints data set is part of a proprietary database, and field names or any other data associated with the field centerpoints cannot be attributed or displayed. Furthermore, portions of this database covering coastline and country boundaries contain intellectual property of Environmental Systems Research Institute, Inc. (ESRI), and are used with permission. End users are permitted to use these data sets for their own internal use, including derivative work, but are prohibited from using and redistributing these data individually or in a derivative work to third parties. Please refer to the "ATTACHMENT B" file on this CD-ROM for further information on ESRI's license agreement.
Subject: Geology, Oil and Gas Fields, Geologic Provinces
Category:
Keywords: Geology,Geologic Maps,USGS,U.S. Geological Survey,Earth Science,Iran
AntialiasingMode: None
TextAntialiasingMode: Force
Supports Dynamic Layers: true
MaxRecordCount: 1000
MaxImageHeight: 4096
MaxImageWidth: 4096
Supported Query Formats: JSON, geoJSON
Supports Query Data Elements:
Min Scale: 5.91657527591555E8
Max Scale: 288895.277144
Min LOD: 0
Max LOD: 11
Supports Datum Transformation: true
Child Resources:
Info
Dynamic Layer
Supported Operations:
Export Map
Identify
QueryLegends
QueryDomains
Find
Return Updates