{
 "currentVersion": 11.2,
 "cimVersion": "3.2.0",
 "serviceDescription": "The data set for these maps includes arcs, polygons, and labels that outline and describe the general geologic age and geophysical fields of Bangladesh. Political boundaries are provided to show the general location of administrative regions and state boundaries. Major base topographic data like cities, rivers, etc. were derived from the same paper map source as the geology. The data provide government, the geologic community, consultants, and the general public with an important geological base for small scale natural resource surveys, exploration and analysis. The maps on this CD-ROM have been compiled from: \n1. Md. Khurshid Alam, A.K.M.Shahidul Hasan, and Mujibur Rahman Khan (Geological Survey of Bangladesh), and John W. Whitney (United States Geological Survey), 1990, Geological Map of Bangladesh: Geological Survey of Bangladesh Publication, scale 1:1,000,000. \n2. M.A. Rahman, (Geological Survey of Bangladesh), M.A. Mannan, (Bangladesh Petroleum Exploration Company), H. R. Blank, M.D. Kleinkopf, and R. P. Kucks, (United States Geological Survey), 1990, Bouguer Gravity Anomaly Map of Bangladesh: Geological Survey of Bangladesh Publication,, scale 1:1,000,000. \n3. M.A. Rahman, (Geological Survey of Bangladesh), H. R. Blank, M.D. Kleinkopf, and R. P.Kucks, (United States Geological Survey), 1990, Aeromagnetic Anomaly Map of Bangladesh: Geological Survey of Bangladesh Publication,, scale 1:1,000,000.",
 "mapName": "Layers",
 "description": "",
 "copyrightText": "Persits, F.M., Wandrey, C.J., Milici, R.C., Manwar A.",
 "supportsDynamicLayers": true,
 "layers": [
  {
   "id": 0,
   "name": "Geologic Province",
   "parentLayerId": -1,
   "defaultVisibility": true,
   "subLayerIds": null,
   "minScale": 0,
   "maxScale": 0,
   "type": "Feature Layer",
   "geometryType": "esriGeometryPolygon",
   "supportsDynamicLegends": true
  },
  {
   "id": 1,
   "name": "Geology",
   "parentLayerId": -1,
   "defaultVisibility": true,
   "subLayerIds": null,
   "minScale": 0,
   "maxScale": 0,
   "type": "Feature Layer",
   "geometryType": "esriGeometryPolygon",
   "supportsDynamicLegends": true
  }
 ],
 "tables": [],
 "spatialReference": {
  "wkid": 102100,
  "latestWkid": 3857,
  "xyTolerance": 0.001,
  "zTolerance": 0.001,
  "mTolerance": 0.001,
  "falseX": -20037700,
  "falseY": -30241100,
  "xyUnits": 1.4892314192838538E8,
  "falseZ": -100000,
  "zUnits": 10000,
  "falseM": -100000,
  "mUnits": 10000
 },
 "singleFusedMapCache": true,
 "tileInfo": {
  "rows": 256,
  "cols": 256,
  "dpi": 96,
  "format": "PNG",
  "compressionQuality": 0,
  "origin": {
   "x": -2.0037508342787E7,
   "y": 2.0037508342787E7
  },
  "spatialReference": {
   "wkid": 102100,
   "latestWkid": 3857,
   "xyTolerance": 0.001,
   "zTolerance": 0.001,
   "mTolerance": 0.001,
   "falseX": -20037700,
   "falseY": -30241100,
   "xyUnits": 1.4892314192838538E8,
   "falseZ": -100000,
   "zUnits": 10000,
   "falseM": -100000,
   "mUnits": 10000
  },
  "lods": [
   {
    "level": 0,
    "resolution": 156543.033928,
    "scale": 5.91657527591555E8
   },
   {
    "level": 1,
    "resolution": 78271.5169639999,
    "scale": 2.95828763795777E8
   },
   {
    "level": 2,
    "resolution": 39135.7584820001,
    "scale": 1.47914381897889E8
   },
   {
    "level": 3,
    "resolution": 19567.8792409999,
    "scale": 7.3957190948944E7
   },
   {
    "level": 4,
    "resolution": 9783.93962049996,
    "scale": 3.6978595474472E7
   },
   {
    "level": 5,
    "resolution": 4891.96981024998,
    "scale": 1.8489297737236E7
   },
   {
    "level": 6,
    "resolution": 2445.98490512499,
    "scale": 9244648.868618
   },
   {
    "level": 7,
    "resolution": 1222.99245256249,
    "scale": 4622324.434309
   },
   {
    "level": 8,
    "resolution": 611.49622628138,
    "scale": 2311162.217155
   },
   {
    "level": 9,
    "resolution": 305.748113140558,
    "scale": 1155581.108577
   },
   {
    "level": 10,
    "resolution": 152.874056570411,
    "scale": 577790.554289
   },
   {
    "level": 11,
    "resolution": 76.4370282850732,
    "scale": 288895.277144
   },
   {
    "level": 12,
    "resolution": 38.2185141425366,
    "scale": 144447.638572
   },
   {
    "level": 13,
    "resolution": 19.1092570712683,
    "scale": 72223.819286
   },
   {
    "level": 14,
    "resolution": 9.55462853563415,
    "scale": 36111.909643
   },
   {
    "level": 15,
    "resolution": 4.77731426794937,
    "scale": 18055.954822
   },
   {
    "level": 16,
    "resolution": 2.38865713397468,
    "scale": 9027.977411
   },
   {
    "level": 17,
    "resolution": 1.19432856685505,
    "scale": 4513.988705
   },
   {
    "level": 18,
    "resolution": 0.597164283559817,
    "scale": 2256.994353
   },
   {
    "level": 19,
    "resolution": 0.298582141647617,
    "scale": 1128.497176
   },
   {
    "level": 20,
    "resolution": 0.14929107082380833,
    "scale": 564.248588
   },
   {
    "level": 21,
    "resolution": 0.07464553541190416,
    "scale": 282.124294
   },
   {
    "level": 22,
    "resolution": 0.03732276770595208,
    "scale": 141.062147
   },
   {
    "level": 23,
    "resolution": 0.01866138385297604,
    "scale": 70.5310735
   }
  ]
 },
 "storageInfo": {
  "storageFormat": "esriMapCacheStorageModeCompactV2",
  "packetSize": 128
 },
 "initialExtent": {
  "xmin": 8676341.499328753,
  "ymin": 2415926.5032590237,
  "xmax": 1.1332234311114395E7,
  "ymax": 3550991.273388572,
  "spatialReference": {
   "cs": "pcs",
   "wkid": 102100
  }
 },
 "fullExtent": {
  "xmin": 9793743.943300001,
  "ymin": 2236615.1358999982,
  "xmax": 1.03376010433E7,
  "ymax": 3090191.5359000005,
  "spatialReference": {
   "cs": "pcs",
   "wkid": 102100
  }
 },
 "datesInUnknownTimezone": false,
 "minScale": 5.91657527591555E8,
 "maxScale": 288895.277144,
 "minLOD": 0,
 "maxLOD": 11,
 "units": "esriMeters",
 "supportedImageFormatTypes": "PNG32,PNG24,PNG,JPG,DIB,TIFF,EMF,PS,PDF,GIF,SVG,SVGZ,BMP",
 "documentInfo": {
  "Title": "Map Service Showing Geologic and Geophysical Data of Bangladesh",
  "Author": "Persits, F.M., Wandrey, C.J., Milici, R.C., Manwar A.",
  "Comments": "This map service includes geology, major faults, geologic provinces, and political boundaries in Bangladesh. This compilation is part of an interim product of the U.S. Geological Survey's World Energy Project (WEP) and part of a series on CD-ROM. The data sets include arcs, polygons, and labels that outline and describe the general geologic age and geophysical fields of Bangladesh. Political boundaries are provided to show the general location of administrative regions and state boundaries. Major base topographic data like cities, rivers, etc. were derived from the same paper map source as the geology.The data provide government, the geologic community, consultants, and the general public with an important geological base for small scale natural resource surveys, exploration and analysis. Although a geologic map displays the geographic distribution of the different geologic units and rock types for numerous purposes, this data set was compiled primarily for the World Energy Project as part of a required strategic base for assessing the petroleum potential of this region. For this purpose, the map provides an outline of the general geographic distribution of both known or hypothetical petroleum-potential formations and units, that is, sedimentary rocks and basins, and areas containing igneous and metamorphic rocks which have virtually little or no potential. The map was also compiled, in part, to provide a basis for outlining the geographic and petroleum provinces. This basic geologic data set, combined with numerous others, such as tectonic and burial histories, distribution of known oil and gas fields, distribution and quality of reservoir rocks, organic geochemistry, etc., will ultimately define the basis for the assessment of undiscovered oil and gas in Bangladesh. Geologic and Geophysical Data of Bangladesh is a GIS data set designed originally in ESRI's ARC/INFO ver. 8.0.2 software. This map service depicts geology, major faults, major cities, a latitude/longitude graticule, gravity and magnetic field maps, and base topographic data, like roads, rivers, and lakes that are depicted in ArcView 3x and ArcExplorer projects on the CD-ROM publication. The published CD-ROM also contains five EPS files and four PDF files that can be used to plot final paper maps.",
  "Subject": "Geology, Geologic Provinces",
  "Category": "",
  "Version": "10.1",
  "AntialiasingMode": "None",
  "TextAntialiasingMode": "Force",
  "Keywords": "geology,geologic map,geologic age,lithology,fault,digital geologic map,Bangladesh,South Asia"
 },
 "supportsQueryDomains": true,
 "capabilities": "Map,Query,Data",
 "supportedQueryFormats": "JSON, geoJSON, PBF",
 "exportTilesAllowed": false,
 "referenceScale": 0.0,
 "supportsDatumTransformation": true,
 "archivingInfo": {
  "supportsHistoricMoment": false
 },
 "supportsClipping": true,
 "supportsSpatialFilter": true,
 "supportsTimeRelation": true,
 "supportsQueryDataElements": true,
 "mapUnits": {
  "uwkid": 9001
 },
 "maxRecordCount": 1000,
 "maxImageHeight": 4096,
 "maxImageWidth": 4096,
 "supportedExtensions": "WMSServer",
 "serviceItemId": "7e00acf202074b86a1fffa52e67933e4"
}
