{
 "currentVersion": 11.2,
 "cimVersion": "3.2.0",
 "serviceDescription": "This digitally compiled map includes geology, oil and gas field centerpoints, geologic provinces, and major faults of Iran with some of these components extended into geographically adjacent areas. This digital compilation is an interim product of the U.S. Geological Survey's World Energy Project (WEP) and part of a series on CD-ROM. The goal of the WEP is to assess the undiscovered, technically recoverable oil and gas resources of the world and report the result of this assessment in the year 2000. For data management purposes, the world was divided into eight energy regions corresponding approximately to the economic regions of the world as defined by the U.S. Department of State. Each world energy region was then further divided into geologic provinces on the basis of natural geologic entities and may include a dominant geologic structural element or a number of contiguous elements. Some provinces contain multiple, genetically-related basins. Geologic province boundaries for Iran were delineated using data from different geologic maps, publications, and other tectonic and geographic data. Each province was assigned a unique number; the first digit is the region number. An attempt was made to number the provinces in geographical order or groups with numbering starting at the Arabian Shield (see Pollastro and others, 1998). The list of provinces sorted by number is shown to the right of the map. Centerpoints of oil and gas fields are shown and were plotted with permission from Petroconsultants International Data Corporation, 1996 worldwide oil and gas field database. Allocation of field data to geologic provinces provided a ranking of the provinces by total known petroleum volume (see Klett and others, 1997). The WEP further characterizes the geologic provinces by petroleum system and assessment units in order to assess the undiscovered petroleum volume. Specific details of map and data sources, and the procedure used in the compilation of this geologic map of Iran are given in the metadata file and described briefly in the text below. Stratigraphic subdivisions of Phanerozoic rocks were combined to simplify the geology and maintain consistency with other maps in this series. Precambrian rocks are undivided. This map was compiled using Environmental Systems Research Institute, Inc.(ESRI) ARC/INFO software. Political boundaries and cartographic representations are used, with permission, from ESRI's ArcWorld 1:3M digital coverages, have no political significance, and are displayed for general reference only.\n",
 "mapName": "Layers",
 "description": "",
 "copyrightText": " R. M. Pollastro, F. M. Persits, and D. W. Steinshouer",
 "supportsDynamicLayers": true,
 "layers": [
  {
   "id": 0,
   "name": "Oil and Gas Field",
   "parentLayerId": -1,
   "defaultVisibility": true,
   "subLayerIds": null,
   "minScale": 0,
   "maxScale": 0,
   "type": "Feature Layer",
   "geometryType": "esriGeometryPoint",
   "supportsDynamicLegends": true
  },
  {
   "id": 1,
   "name": "Geologic Province ",
   "parentLayerId": -1,
   "defaultVisibility": true,
   "subLayerIds": null,
   "minScale": 0,
   "maxScale": 0,
   "type": "Feature Layer",
   "geometryType": "esriGeometryPolygon",
   "supportsDynamicLegends": true
  },
  {
   "id": 2,
   "name": "Geology",
   "parentLayerId": -1,
   "defaultVisibility": true,
   "subLayerIds": null,
   "minScale": 0,
   "maxScale": 0,
   "type": "Feature Layer",
   "geometryType": "esriGeometryPolygon",
   "supportsDynamicLegends": true
  }
 ],
 "tables": [],
 "spatialReference": {
  "wkid": 102100,
  "latestWkid": 3857,
  "xyTolerance": 0.001,
  "zTolerance": 0.001,
  "mTolerance": 0.001,
  "falseX": -20037700,
  "falseY": -30241100,
  "xyUnits": 1.4892314192838538E8,
  "falseZ": -100000,
  "zUnits": 10000,
  "falseM": -100000,
  "mUnits": 10000
 },
 "singleFusedMapCache": true,
 "tileInfo": {
  "rows": 256,
  "cols": 256,
  "dpi": 96,
  "format": "PNG",
  "compressionQuality": 0,
  "origin": {
   "x": -2.0037508342787E7,
   "y": 2.0037508342787E7
  },
  "spatialReference": {
   "wkid": 102100,
   "latestWkid": 3857,
   "xyTolerance": 0.001,
   "zTolerance": 0.001,
   "mTolerance": 0.001,
   "falseX": -20037700,
   "falseY": -30241100,
   "xyUnits": 1.4892314192838538E8,
   "falseZ": -100000,
   "zUnits": 10000,
   "falseM": -100000,
   "mUnits": 10000
  },
  "lods": [
   {
    "level": 0,
    "resolution": 156543.033928,
    "scale": 5.91657527591555E8
   },
   {
    "level": 1,
    "resolution": 78271.5169639999,
    "scale": 2.95828763795777E8
   },
   {
    "level": 2,
    "resolution": 39135.7584820001,
    "scale": 1.47914381897889E8
   },
   {
    "level": 3,
    "resolution": 19567.8792409999,
    "scale": 7.3957190948944E7
   },
   {
    "level": 4,
    "resolution": 9783.93962049996,
    "scale": 3.6978595474472E7
   },
   {
    "level": 5,
    "resolution": 4891.96981024998,
    "scale": 1.8489297737236E7
   },
   {
    "level": 6,
    "resolution": 2445.98490512499,
    "scale": 9244648.868618
   },
   {
    "level": 7,
    "resolution": 1222.99245256249,
    "scale": 4622324.434309
   },
   {
    "level": 8,
    "resolution": 611.49622628138,
    "scale": 2311162.217155
   },
   {
    "level": 9,
    "resolution": 305.748113140558,
    "scale": 1155581.108577
   },
   {
    "level": 10,
    "resolution": 152.874056570411,
    "scale": 577790.554289
   },
   {
    "level": 11,
    "resolution": 76.4370282850732,
    "scale": 288895.277144
   },
   {
    "level": 12,
    "resolution": 38.2185141425366,
    "scale": 144447.638572
   },
   {
    "level": 13,
    "resolution": 19.1092570712683,
    "scale": 72223.819286
   },
   {
    "level": 14,
    "resolution": 9.55462853563415,
    "scale": 36111.909643
   },
   {
    "level": 15,
    "resolution": 4.77731426794937,
    "scale": 18055.954822
   },
   {
    "level": 16,
    "resolution": 2.38865713397468,
    "scale": 9027.977411
   },
   {
    "level": 17,
    "resolution": 1.19432856685505,
    "scale": 4513.988705
   },
   {
    "level": 18,
    "resolution": 0.597164283559817,
    "scale": 2256.994353
   },
   {
    "level": 19,
    "resolution": 0.298582141647617,
    "scale": 1128.497176
   },
   {
    "level": 20,
    "resolution": 0.14929107082380833,
    "scale": 564.248588
   },
   {
    "level": 21,
    "resolution": 0.07464553541190416,
    "scale": 282.124294
   },
   {
    "level": 22,
    "resolution": 0.03732276770595208,
    "scale": 141.062147
   },
   {
    "level": 23,
    "resolution": 0.01866138385297604,
    "scale": 70.5310735
   }
  ]
 },
 "storageInfo": {
  "storageFormat": "esriMapCacheStorageModeCompactV2",
  "packetSize": 128
 },
 "initialExtent": {
  "xmin": 3712792.125112097,
  "ymin": 3260574.952426603,
  "xmax": 7837964.637532116,
  "ymax": 5023574.561739403,
  "spatialReference": {
   "cs": "pcs",
   "wkid": 102100
  }
 },
 "fullExtent": {
  "xmin": 4855323.467599999,
  "ymin": 2842340.0799000002,
  "xmax": 7289675.121399999,
  "ymax": 4886944.3276999965,
  "spatialReference": {
   "cs": "pcs",
   "wkid": 102100
  }
 },
 "datesInUnknownTimezone": false,
 "minScale": 5.91657527591555E8,
 "maxScale": 288895.277144,
 "minLOD": 0,
 "maxLOD": 11,
 "units": "esriMeters",
 "supportedImageFormatTypes": "PNG32,PNG24,PNG,JPG,DIB,TIFF,EMF,PS,PDF,GIF,SVG,SVGZ,BMP",
 "documentInfo": {
  "Title": "Map Service Showing Geology, Oil and Gas Fields, and Geological Provinces of Iran",
  "Author": "Pollastro, R.M., Persits, F.M., and Steinshouer, D.W.",
  "Comments": "The geology data set for this map includes arcs, polygons, and labels that outline and describe the general geologic age and type of bedrock of Iran. The geologic provinces data set includes arcs, polygons, and labels of geologic and petroleum provinces interpreted and designated by R.M. Pollastro from a number of literature and map resources to assist in the assessment of oil and gas resources for the USGS World Energy Project. The oil and gas field centerpoints data set is a point coverage that marks the approximate centerpoints of oil and gas fields in Iran. Political boundaries are provided to show the general location of country and/or other reference 'political' boundaries.The data provide government, geological community, consultants, and the general public with the important geological base that is used to define geologic provinces and oil and gas field assignments for USGS Oil and Gas Assessment of the World.Map showing Geology, Oil and Gas fields and Geologic Provinces of Iran is a GIS data set designed originally in ESRI's ARC/INFO ver. 7.0.4 and 7.1.2 software.The oil and gas field centerpoints data set is part of a proprietary database, and field names or any other data associated with the field centerpoints cannot be attributed or displayed. Furthermore, portions of this database covering coastline and country boundaries contain intellectual property of Environmental Systems Research Institute, Inc. (ESRI), and are used with permission. End users are permitted to use these data sets for their own internal use, including derivative work, but are prohibited from using and redistributing these data individually or in a derivative work to third parties. Please refer to the \"ATTACHMENT B\" file on this CD-ROM for further information on ESRI's license agreement. ",
  "Subject": "Geology, Oil and Gas Fields, Geologic Provinces",
  "Category": "",
  "Version": "10.1",
  "AntialiasingMode": "None",
  "TextAntialiasingMode": "Force",
  "Keywords": "Geology,Geologic Maps,USGS,U.S. Geological Survey,Earth Science,Iran"
 },
 "supportsQueryDomains": true,
 "capabilities": "Map,Query,Data",
 "supportedQueryFormats": "JSON, geoJSON, PBF",
 "exportTilesAllowed": false,
 "referenceScale": 0.0,
 "supportsDatumTransformation": true,
 "archivingInfo": {
  "supportsHistoricMoment": false
 },
 "supportsClipping": true,
 "supportsSpatialFilter": true,
 "supportsTimeRelation": true,
 "supportsQueryDataElements": true,
 "mapUnits": {
  "uwkid": 9001
 },
 "maxRecordCount": 1000,
 "maxImageHeight": 4096,
 "maxImageWidth": 4096,
 "supportedExtensions": "WMSServer",
 "serviceItemId": "a29960a9d9d144368db4cc9834e261ff"
}
