View In:
ArcGIS JavaScript
ArcGIS Online Map Viewer
ArcGIS Earth
ArcGIS Pro
Service Description: This map layer contains geologic unit boundaries for the area depicted in the Geologic Map of North America, published by the Geological Society of America in 2004 (Reed et. al, 2004). Digital data were compiled from source data at a scale of 1:5,000,000 and are not intended to be used at a larger (greater detail) scale.
Map Name: Geologic Map of North America
Legend
All Layers and Tables
Dynamic Legend
Dynamic All Layers
Layers:
Description: The release of this database will allow the general public, academia, and earth science professionals to view, evaluate and manipulate geologic data on a continental scale. It is hoped that use of this data, either by itself or in relation to other data sets, may lead to new interpretations of the geology of North America.
Service Item Id: 9ce4a9d6a06b4a9c847a7c2899bf4a0c
Copyright Text: Garrity, C.P., Soller, D.R.
Spatial Reference:
102100
(3857)
LatestVCSWkid(0)
Single Fused Map Cache: true
Tile Info:
- Height: 256
- Width: 256
- DPI: 96
-
Levels of Detail: 24
-
Level ID: 0
[ Start Tile, End Tile ]
- Resolution: 156543.03392800014
- Scale: 5.91657527591555E8
-
Level ID: 1
[ Start Tile, End Tile ]
- Resolution: 78271.51696399994
- Scale: 2.95828763795777E8
-
Level ID: 2
[ Start Tile, End Tile ]
- Resolution: 39135.75848200009
- Scale: 1.47914381897889E8
-
Level ID: 3
[ Start Tile, End Tile ]
- Resolution: 19567.87924099992
- Scale: 7.3957190948944E7
-
Level ID: 4
[ Start Tile, End Tile ]
- Resolution: 9783.93962049996
- Scale: 3.6978595474472E7
-
Level ID: 5
[ Start Tile, End Tile ]
- Resolution: 4891.96981024998
- Scale: 1.8489297737236E7
- Format: PNG
- Compression Quality: 0.0
- Origin: X: -2.0037508342787E7
Y: 2.0037508342787E7
- Spatial Reference: 102100
(3857)
LatestVCSWkid(0)
Storage Info:
- Storage Format: esriMapCacheStorageModeCompactV2
- Packet Size: 128
Initial Extent:
XMin: -2.204125777387803E7
YMin: 9950214.418984788
XMax: 2.204125777387803E7
YMax: 3.238742293131572E7
Spatial Reference: 102100
(0)
LatestVCSWkid(0)
Full Extent:
XMin: -2.0037507067161843E7
YMin: 632948.7738494804
XMax: 2.0037507067161843E7
YMax: 3.024097195838615E7
Spatial Reference: 102100
(0)
LatestVCSWkid(0)
Units: esriMeters
Supported Image Format Types: PNG32,PNG24,PNG,JPG,DIB,TIFF,EMF,PS,PDF,GIF,SVG,SVGZ,BMP
Document Info:
Title: Database of the Geologic Map of North America (v.1.0), adapted from Reed et al. (2004))
Author: Garrity, C.P. and Soller, D.R.
Comments: This map layer contains geologic unit boundaries for the area depicted in the Geologic Map of North America, published by the Geological Society of America in 2004 (Reed et. al, 2004). Digital data were compiled from source data at a scale of 1:5,000,000 and are not intended to be used at a larger (greater detail) scale.
Subject:
Category: Geoscientific Information
Keywords: Geologic Map of North America,GMNA,Geologic Map
AntialiasingMode: None
TextAntialiasingMode: Force
Supports Dynamic Layers: true
MaxRecordCount: 1000
MaxSelectionCount: 2000
MaxImageHeight: 4096
MaxImageWidth: 4096
Supported Query Formats: JSON, geoJSON, PBF
Supports Query Data Elements: true
Min Scale: 5.91657527591555E8
Max Scale: 1155581.108577
Min LOD: 0
Max LOD: 9
Supports Datum Transformation: true
Child Resources:
Info
Dynamic Layer
Supported Operations:
Export Map
Identify
QueryLegends
QueryDomains
Find
Return Updates