View In:
ArcGIS JavaScript
ArcGIS Online Map Viewer
ArcGIS Earth
ArcGIS Pro
Service Description: The digitally compiled map includes geology, oil and gas field centerpoints, and geologic provinces of the Arctic (North Pole area encircled by 640 N Latitude). The GIS data sets were designed originally in ESRI's ARC/INFO ver. 8.0.1 and were published as part of a series of interim CD-ROM products of the U.S. Geological Survey's World Energy Project (WEP). The goal of the WEP is to assess the undiscovered, technically recoverable oil and gas resources of the world. Results of this assessment were reported in the year 2000 (see USGS DDS-60; http://pubs.usgs.gov/dds/dds-060/).
Map Name: Layers
Legend
All Layers and Tables
Dynamic Legend
Dynamic All Layers
Layers:
Description:
Service Item Id: 36fbf3a5dea24e03ad322fcdab1cd846
Copyright Text:
Spatial Reference:
102100
(3857)
LatestVCSWkid(0)
Single Fused Map Cache: true
Tile Info:
- Height: 256
- Width: 256
- DPI: 96
-
Levels of Detail: 24
-
Level ID: 0
[ Start Tile, End Tile ]
- Resolution: 156543.03392800014
- Scale: 5.91657527591555E8
-
Level ID: 1
[ Start Tile, End Tile ]
- Resolution: 78271.51696399994
- Scale: 2.95828763795777E8
-
Level ID: 2
[ Start Tile, End Tile ]
- Resolution: 39135.75848200009
- Scale: 1.47914381897889E8
-
Level ID: 3
[ Start Tile, End Tile ]
- Resolution: 19567.87924099992
- Scale: 7.3957190948944E7
-
Level ID: 4
[ Start Tile, End Tile ]
- Resolution: 9783.93962049996
- Scale: 3.6978595474472E7
-
Level ID: 5
[ Start Tile, End Tile ]
- Resolution: 4891.96981024998
- Scale: 1.8489297737236E7
- Format: PNG
- Compression Quality: 0.0
- Origin: X: -2.0037508342787E7
Y: 2.0037508342787E7
- Spatial Reference: 102100
(3857)
LatestVCSWkid(0)
Storage Info:
- Storage Format: esriMapCacheStorageModeCompactV2
- Packet Size: 128
Initial Extent:
XMin: -2.062758694181273E7
YMin: 6690696.457146691
XMax: 3.470351330372111E7
YMax: 3.033787916817879E7
Spatial Reference: 102100
(0)
LatestVCSWkid(0)
Full Extent:
XMin: -2.00375070672E7
YMin: 8357581.164899997
XMax: 2.0037507067199998E7
YMax: 3.0240971958400004E7
Spatial Reference: 102100
(0)
LatestVCSWkid(0)
Units: esriMeters
Supported Image Format Types: PNG32,PNG24,PNG,JPG,DIB,TIFF,EMF,PS,PDF,GIF,SVG,SVGZ,BMP
Document Info:
Title: Map Service Showing Geology, Oil and Gas Fields, and Geologic Provinces of the Arctic
Author: Feliks M. Persits and Gregory F. Ulmishek
Comments: The data provide government, the geologic community, consultants, and the general public with the geological basis for small scale natural resource surveys, exploration, and analysis. The digitally compiled map includes geology, oil and gas field centerpoints, and geologic provinces of the Arctic (North Pole area encircled by 640 N Latitude). The GIS data sets were designed originally in ESRI's ARC/INFO ver. 8.0.1 and were published as part of a series of interim CD-ROM products of the U.S. Geological Survey's World Energy Project (WEP). The goal of the WEP is to assess the undiscovered, technically recoverable oil and gas resources of the world. Results of this assessment were reported in the year 2000 (see USGS DDS-60; http://pubs.usgs.gov/dds/dds-060/).
Subject: Geology, Oil and Gas Fields, Geologic Provinces
Category:
Keywords: National Oil and Gas Assessment,Energy Resources,Oil,Natural Gas,Resource Assessment,Earth Science,Natural Resources,U.S. Geological Survey,USGS,Geology,Play Boundaries,Cells,NOGA,CERT,NOGAOnline,EPCA,Energy Conservation Policy Act,Oil shale resources,Oil sand resources,Coalbed methane resources,Natural gas resources,Economic geology,geoscienctificInformation,environment,Igneous Rocks,Intrusive Rocks
AntialiasingMode: None
TextAntialiasingMode: Force
Supports Dynamic Layers: true
Resampling: false
MaxRecordCount: 1000
MaxSelectionCount: 2000
MaxImageHeight: 4096
MaxImageWidth: 4096
Supported Query Formats: JSON, geoJSON, PBF
Supports Query Data Elements: true
Min Scale: 5.91657527591555E8
Max Scale: 577790.554289
Min LOD: 0
Max LOD: 10
Supports Datum Transformation: true
Child Resources:
Info
Dynamic Layer
Supported Operations:
Export Map
Identify
QueryLegends
QueryDomains
Find
Return Updates