View In:
ArcGIS JavaScript
ArcGIS Online Map Viewer
ArcGIS Earth
ArcGIS Pro
Service Description: The CD-ROM was compiled according to the methodology developed by the U.S. Geological Survey's World Energy Project . The goal of the project was to assess the undiscovered, technically recoverable oil and gas resources of the world and report these results by the year 2000. A worldwide series of geologic maps, published on CD-ROMs, was released by the U.S. Geological Survey's World Energy Project during 1997 - 2000. Specific details of the data sources and map compilation are given in the metadata files on this CD-ROM. These maps were compiled using Environmental Systems Research Institute Inc. (ESRI) ARC/INFO software. Political boundaries and cartographic representations on this map are shown (with permission) from ESRI's ArcWorld 1:3M digital coverage: they have no political significance and are displayed as general reference only. Portions of this database covering the coastline and country boundaries contain proprietary property of ESRI. (© 1992 and 1996, Environmental Systems Research Institute Inc. All rights reserved.)
Map Name: Layers
Legend
All Layers and Tables
Dynamic Legend
Dynamic All Layers
Layers:
Description:
Service Item Id: 31b682d71f764223a606bb92af80ee6e
Copyright Text: Feliks Persits, Thomas Ahlbrandt, Michele Tuttle, Ronald Charpentier,
Spatial Reference:
102100
(3857)
LatestVCSWkid(0)
Single Fused Map Cache: true
Tile Info:
- Height: 256
- Width: 256
- DPI: 96
-
Levels of Detail: 24
-
Level ID: 0
[ Start Tile, End Tile ]
- Resolution: 156543.03392800014
- Scale: 5.91657527591555E8
-
Level ID: 1
[ Start Tile, End Tile ]
- Resolution: 78271.51696399994
- Scale: 2.95828763795777E8
-
Level ID: 2
[ Start Tile, End Tile ]
- Resolution: 39135.75848200009
- Scale: 1.47914381897889E8
-
Level ID: 3
[ Start Tile, End Tile ]
- Resolution: 19567.87924099992
- Scale: 7.3957190948944E7
-
Level ID: 4
[ Start Tile, End Tile ]
- Resolution: 9783.93962049996
- Scale: 3.6978595474472E7
-
Level ID: 5
[ Start Tile, End Tile ]
- Resolution: 4891.96981024998
- Scale: 1.8489297737236E7
- Format: PNG
- Compression Quality: 0.0
- Origin: X: -2.0037508342787E7
Y: 2.0037508342787E7
- Spatial Reference: 102100
(3857)
LatestVCSWkid(0)
Storage Info:
- Storage Format: esriMapCacheStorageModeCompactV2
- Packet Size: 128
Initial Extent:
XMin: -6276734.122026378
YMin: -2005121.4534430937
XMax: 1.0966291720726376E7
YMax: 5364133.464409998
Spatial Reference: 102100
(0)
LatestVCSWkid(0)
Full Extent:
XMin: -2495042.992800001
YMin: -4660957.825300001
XMax: 7184600.591499999
YMax: 4886748.164899997
Spatial Reference: 102100
(0)
LatestVCSWkid(0)
Units: esriMeters
Supported Image Format Types: PNG32,PNG24,PNG,JPG,DIB,TIFF,EMF,PS,PDF,GIF,SVG,SVGZ,BMP
Document Info:
Title: Map Service Showing Geology, Oil and Gas Fields, and Geologic Provinces of Africa
Author: Persits, F.M., Ahlbrandt, T.S., Tuttle, M.L., Charpentier, R.R., Brownfield, M.E., and Takahashi, K.I.
Comments: This map service includes geology, oil and gas field centerpoints, and geologic provinces of Africa with some of these components extended into geographically adjacent areas. This digital compilation is an interim product of the U.S. Geological Survey's World Energy Project (WEP) and part of a series on CD-ROM. The goal of the WEP is to assess the undiscovered, technically recoverable oil and gas resources of the world. Results of this assessment were reported in the year 2000 (see USGS DDS-60). The data provide government, the geologic community, consultants, and the general public with the geological basis for small scale natural resource surveys, exploration, and analysis. The version 1.0 of this CD-ROM was published in 1997 (see Persits and others, 1997). There are several reasons to issue this version 2.0, as follows: 1. ESRI's ArcView shapefiles were in Robinson projection. It was found that Robinson projection in ArcView is an implementation that differs from one used in workstation ArcInfo and therefore shows different values. This version 2.0 uses all the spatial data in Geographic coordinates projected into Mercator projection for the map. 2. Certain off-shore provinces have been expanded to include the 4000 meters water depth. 3. Geologic characteristics and estimated values for undiscovered oil and gas resources have been added to the geologic province coverage.
Subject: Geology, Oil and Gas Fields, and Geologic Provinces
Category:
Keywords: Geology,Geologic Maps,USGS,U.S. Geological Survey,Earth Science,Africa
AntialiasingMode: None
TextAntialiasingMode: Force
Supports Dynamic Layers: true
Resampling: false
MaxRecordCount: 1000
MaxSelectionCount: 2000
MaxImageHeight: 4096
MaxImageWidth: 4096
Supported Query Formats: JSON, geoJSON, PBF
Supports Query Data Elements: true
Min Scale: 5.91657527591555E8
Max Scale: 577790.554289
Min LOD: 0
Max LOD: 10
Supports Datum Transformation: true
Child Resources:
Info
Dynamic Layer
Supported Operations:
Export Map
Identify
QueryLegends
QueryDomains
Find
Return Updates